Workbook

Sheet Supplier Instructions
B2: Supplier Instructions
B5: Tab Descriptions
B6: Total Estimated Charges
B7: This form specifies the Charges to VITA, and the estimated consumption, for the Resource Units
B9: Charges by Cost Type
B10: The Supplier should use this tab to provide the cost break-down of the Charges, by expense type (e.g. Labor, Hardware, Software, etc.). These amounts are for informational purposes only and will help the Commonwealth understand the Supplier solution.
B12: Monthly Unit Rates
B13: Supplier must specify the Monthly Unit Rates for the Resource Units proposed by Supplier.
B15: Estimated Volumes
B16: Supplier input is required for the RU structure of this RFP, therefore, no Estimated Volumes by RU will be provided initially by VITA. Supplier should refer to Exhibit 4.1.1 (Current Consumption) for the current volumes consumed by VITA and use such volumes to populate the Estimated Volumes for its proposed RU Structure. No organic growth, or reduction should be assumed.
B18: HSC
B19: This form should be populated according to the proposed Server refresh schedule and is meant to provide visibility into the Hardware Charges for Server & Storage non-infrastructure equipment.
... B40: Supplier should use this form to provide a list of available Resource Types for FTE Services and the applicable hourly rates, inclusive of travel. These Resource Types will be available for Solution Services (projects) in accordance with Section 4 of Exhibit 4.0 (Pricing and Financial Provisions).

Sheet Title Page
C4: VA-180815-UC | N4: Exhibit 4.1: Pricing and Volumes Matrix
C14: Exhibit 4.1 (Pricing and Volumes Matrix) - FC20241025 VA-180815-UC
C25: COMMONWEALTH OF VIRGINIA VIRGINIA IT AGENCY (VITA) SUPPLIER STRATEGY AND PERFORMANCE DIVISION 7325 BEAUFONT SPRINGS DRIVE RICHMOND, VIRGINIA 23225

Sheet 1- Total Estimated Charges
B1: VA-180815-UC - FC20241025
A2: Total Estimated Charges (Annual Amounts in $)
B4: Resource Description | F4: Contract Year 1 | G4: Contract Year 2 | H4: Contract Year 3 | I4: Contract Year 4 | J4: Contract Year 5 | K4: Contract Year 6 | L4: 6 Year Total | N4: Contract Year 7 | O4: Contract Year 8 | P4: 8 Year Total | R4: Contract Year 9 | S4: Contract Year 10 | T4: 10 Year Total
B5: CROSS FUNCTIONAL
C6: Cross Functional Services
D7: Account Management | F7: ='2 - Monthly Unit Rates'!F7*'3 - Estimated Volumes'!F8*12 -> 3655886 | G7: ='2 - Monthly Unit Rates'!G7*'3 - Estimated Volumes'!G8*12 -> 3359799.1 | H7: ='2 - Monthly Unit Rates'!H7*'3 - Estimated Volumes'!H8*12 -> 3397181.2 | I7: ='2 - Monthly Unit Rates'!I7*'3 - Estimated Volumes'!I8*12 -> 3488905.1 | J7: ='2 - Monthly Unit Rates'!J7*'3 - Estimated Volumes'!J8*12 -> 3583105.5 | K7: ='2 - Monthly Unit Rates'!K7*'3 - Estimated Volumes'!K8*12 -> 3679847.2 | L7: =SUM(F7:K7) -> 21164724 | N7: 3939696 | O7: 3939696 | P7: =SUM(L7:O7) -> 29044116 | R7: 3939696 | S7: 3939696 | T7: =SUM(P7:S7) -> 36923508
D8: Subtotal | F8: =SUBTOTAL(9,F7:F7) -> 3655886 | G8: =SUBTOTAL(9,G7:G7) -> 3359799.1 | H8: =SUBTOTAL(9,H7:H7) -> 3397181.2 | I8: =SUBTOTAL(9,I7:I7) -> 3488905.1 | J8: =SUBTOTAL(9,J7:J7) -> 3583105.5 | K8: =SUBTOTAL(9,K7:K7) -> 3679847.2 | L8: =SUBTOTAL(9,L7:L7) -> 21164724 | N8: =SUBTOTAL(9,N7:N7) -> 3939696 | O8: =SUBTOTAL(9,O7:O7) -> 3939696 | P8: =SUBTOTAL(9,P7:P7) -> 29044116 | R8: =SUBTOTAL(9,R7:R7) -> 3939696 | S8: =SUBTOTAL(9,S7:S7) -> 3939696 | T8: =SUBTOTAL(9,T7:T7) -> 36923508
B10: SERVER & STORAGE
C11: Hardware Charge
C12: Hardware Services Charge
D13: Hardware Service Charge (HSC) - Host of Remote VM (Linux or Windows) | F13: 20187.156 | G13: 40374.311 | H13: 55055.879 | I13: 69737.446 | J13: 84419.014 | K13: 78913.426 | L13: =SUM(F13:K13) -> 348687.23 | N13: 0 | O13: 0 | P13: =SUM(L13:O13) -> 348687.23 | R13: 0 | S13: 0 | T13: =SUM(P13:S13) -> 348687.23
D14: Hardware Service Charge (HSC) - Host of Unix VM | F14: 0 | G14: 636036.52 | H14: 636036.52 | I14: 636036.52 | J14: 636036.52 | K14: 636036.52 | L14: =SUM(F14:K14) -> 3180182.6 | P14: =SUM(L14:O14) -> 3180182.6 | R14: 0 | S14: 0 | T14: =SUM(P14:S14) -> 3180182.6
D15: Hardware Service Charge (HSC) - Physical x86 | F15: 628148.48 | G15: 1205999 | H15: 1554673.3 | I15: 1872078.8 | J15: 2181681.1 | K15: 1830385.9 | L15: =SUM(F15:K15) -> 9272966.5 | N15: 0 | O15: 0 | P15: =SUM(L15:O15) -> 9272966.5 | R15: 0 | S15: 0 | T15: =SUM(P15:S15) -> 9272966.5
D16: Hardware Service Charge (HSC) - Physical Unix Servers | F16: 0 | G16: 407160.48 | H16: 407160.48 | I16: 407160.48 | J16: 407160.48 | K16: 407160.48 | L16: =SUM(F16:K16) -> 2035802.4 | P16: =SUM(L16:O16) -> 2035802.4 | R16: 0 | S16: 0 | T16: =SUM(P16:S16) -> 2035802.4
D17: Hardware Service Charge (HSC) - Remote NAS & SAN | F17: 38053.473 | G17: 289099.81 | H17: 348264.5 | I17: 386317.97 | J17: 386317.97 | K17: 348264.5 | L17: =SUM(F17:K17) -> 1796318.2 | N17: 0 | O17: 0 | P17: =SUM(L17:O17) -> 1796318.2 | R17: 0 | S17: 0 | T17: =SUM(P17:S17) -> 1796318.2
D18: Hardware Service Charge (HSC) - Existing Hardware Asset Maintenance | F18: 913043.48 | G18: 365217.39 | H18: 91304.348 | L18: =SUM(F18:K18) -> 1369565.2 | P18: =SUM(L18:O18) -> 1369565.2 | R18: 0 | S18: 0 | T18: =SUM(P18:S18) -> 1369565.2
L19: 0 | P19: =SUM(L19:O19) -> 0 | R19: 0 | S19: 0 | T19: =SUM(P19:S19) -> 0
D20: Subtotal | F20: =SUBTOTAL(9,F13:F18) -> 1599432.6 | G20: =SUBTOTAL(9,G13:G18) -> 2943887.5 | H20: =SUBTOTAL(9,H13:H18) -> 3092495 | I20: =SUBTOTAL(9,I13:I18) -> 3371331.2 | J20: =SUBTOTAL(9,J13:J18) -> 3695615.1 | K20: =SUBTOTAL(9,K13:K18) -> 3300760.8 | L20: =SUBTOTAL(9,L13:L18) -> 18003522 | N20: =SUBTOTAL(9,N13:N18) -> 0 | O20: =SUBTOTAL(9,O13:O18) -> 0 | P20: =SUBTOTAL(9,P13:P18) -> 18003522 | R20: =SUBTOTAL(9,R13:R18) -> 0 | S20: =SUBTOTAL(9,S13:S18) -> 0 | T20: =SUBTOTAL(9,T13:T18) -> 18003522
C22: Private Cloud Hardware Allocation (Central DC)
D23: Virtual Cores | F23: ='2 - Monthly Unit Rates'!F23*'3 - Estimated Volumes'!F24*12 -> 108799.2 | G23: ='2 - Monthly Unit Rates'!G23*'3 - Estimated Volumes'!G24*12 -> 118867.2 | H23: ='2 - Monthly Unit Rates'!H23*'3 - Estimated Volumes'!H24*12 -> 125369.83 | I23: ='2 - Monthly Unit Rates'!I23*'3 - Estimated Volumes'!I24*12 -> 130694.57 | J23: ='2 - Monthly Unit Rates'!J23*'3 - Estimated Volumes'!J24*12 -> 134988.63 | K23: ='2 - Monthly Unit Rates'!K23*'3 - Estimated Volumes'!K24*12 -> 141205.78 | L23: =SUM(F23:K23) -> 759925.22 | N23: 141205.78 | O23: 141205.78 | P23: =SUM(L23:O23) -> 1042336.8 | R23: 141205.78 | S23: 141205.78 | T23: =SUM(P23:S23) -> 1324748.3
D24: Virtual Memory | F24: ='2 - Monthly Unit Rates'!F24*'3 - Estimated Volumes'!F25*12 -> 257954.4 | G24: ='2 - Monthly Unit Rates'!G24*'3 - Estimated Volumes'!G25*12 -> 275674.08 | H24: ='2 - Monthly Unit Rates'!H24*'3 - Estimated Volumes'!H25*12 -> 285789.36 | I24: ='2 - Monthly Unit Rates'!I24*'3 - Estimated Volumes'!I25*12 -> 293858.13 | J24: ='2 - Monthly Unit Rates'!J24*'3 - Estimated Volumes'!J25*12 -> 300138.96 | K24: ='2 - Monthly Unit Rates'!K24*'3 - Estimated Volumes'!K25*12 -> 311081.14 | L24: =SUM(F24:K24) -> 1724496.1 | N24: 311081.14 | O24: 311081.14 | P24: =SUM(L24:O24) -> 2346658.4 | R24: 311081.14 | S24: 311081.14 | T24: =SUM(P24:S24) -> 2968820.6
D25: Subtotal | F25: =SUBTOTAL(9,F23:F24) -> 366753.6 | G25: =SUBTOTAL(9,G23:G24) -> 394541.28 | H25: =SUBTOTAL(9,H23:H24) -> 411159.19 | I25: =SUBTOTAL(9,I23:I24) -> 424552.71 | J25: =SUBTOTAL(9,J23:J24) -> 435127.59 | K25: =SUBTOTAL(9,K23:K24) -> 452286.92 | L25: =SUBTOTAL(9,L23:L24) -> 2484421.3 | N25: =SUBTOTAL(9,N23:N24) -> 452286.92 | O25: =SUBTOTAL(9,O23:O24) -> 452286.92 | P25: =SUBTOTAL(9,P23:P24) -> 3388995.1 | R25: =SUBTOTAL(9,R23:R24) -> 452286.92 | S25: =SUBTOTAL(9,S23:S24) -> 452286.92 | T25: =SUBTOTAL(9,T23:T24) -> 4293569
C27: Software Charges
C28: Software Services Charge
D29: Linux | F29: 766920 | G29: 766920 | H29: 766920 | I29: ='2 - Monthly Unit Rates'!I29*'3 - Estimated Volumes'!I30*12 -> 766920 | J29: ='2 - Monthly Unit Rates'!J29*'3 - Estimated Volumes'!J30*12 -> 766920 | K29: ='2 - Monthly Unit Rates'!K29*'3 - Estimated Volumes'!K30*12 -> 766920 | L29: =SUM(F29:K29) -> 4601520 | N29: 766920 | O29: 766920 | P29: =SUM(L29:O29) -> 6135360 | R29: 766920 | S29: 766920 | T29: =SUM(P29:S29) -> 7669200
D30: Windows | F30: 0 | G30: 0 | H30: 0 | I30: ='2 - Monthly Unit Rates'!I30*'3 - Estimated Volumes'!I31*12 -> 0 | J30: ='2 - Monthly Unit Rates'!J30*'3 - Estimated Volumes'!J31*12 -> 0 | K30: ='2 - Monthly Unit Rates'!K30*'3 - Estimated Volumes'!K31*12 -> 0 | L30: =SUM(F30:K30) -> 0 | N30: 0 | O30: 0 | P30: =SUM(L30:O30) -> 0 | R30: 0 | S30: 0 | T30: =SUM(P30:S30) -> 0
D31: AIX | F31: 0 | G31: 0 | H31: 0 | I31: ='2 - Monthly Unit Rates'!I31*'3 - Estimated Volumes'!I32*12 -> 0 | J31: ='2 - Monthly Unit Rates'!J31*'3 - Estimated Volumes'!J32*12 -> 0 | K31: ='2 - Monthly Unit Rates'!K31*'3 - Estimated Volumes'!K32*12 -> 0 | L31: =SUM(F31:K31) -> 0 | N31: 0 | O31: 0 | P31: =SUM(L31:O31) -> 0 | R31: 0 | S31: 0 | T31: =SUM(P31:S31) -> 0
D32: HP-UX | F32: 34705.882 | G32: 34705.882 | H32: 34705.882 | I32: ='2 - Monthly Unit Rates'!I32*'3 - Estimated Volumes'!I33*12 -> 34705.882 | J32: ='2 - Monthly Unit Rates'!J32*'3 - Estimated Volumes'!J33*12 -> 34705.882 | K32: ='2 - Monthly Unit Rates'!K32*'3 - Estimated Volumes'!K33*12 -> 34705.882 | L32: =SUM(F32:K32) -> 208235.29 | N32: 34705.882 | O32: 34705.882 | P32: =SUM(L32:O32) -> 277647.06 | R32: 34705.882 | S32: 34705.882 | T32: =SUM(P32:S32) -> 347058.82
D33: Solaris | F33: 676588.24 | G33: 609882.35 | H33: 552705.88 | I33: ='2 - Monthly Unit Rates'!I33*'3 - Estimated Volumes'!I34*12 -> 495529.41 | J33: ='2 - Monthly Unit Rates'!J33*'3 - Estimated Volumes'!J34*12 -> 447882.35 | K33: ='2 - Monthly Unit Rates'!K33*'3 - Estimated Volumes'!K34*12 -> 400235.29 | L33: =SUM(F33:K33) -> 3182823.5 | N33: 400235.29 | O33: 400235.29 | P33: =SUM(L33:O33) -> 3983294.1 | R33: 400235.29 | S33: 400235.29 | T33: =SUM(P33:S33) -> 4783764.7
D34: Subtotal | F34: =SUBTOTAL(9,F29:F33) -> 1478214.1 | G34: =SUBTOTAL(9,G29:G33) -> 1411508.2 | H34: =SUBTOTAL(9,H29:H33) -> 1354331.8 | I34: =SUBTOTAL(9,I29:I33) -> 1297155.3 | J34: =SUBTOTAL(9,J29:J33) -> 1249508.2 | K34: =SUBTOTAL(9,K29:K33) -> 1201861.2 | L34: =SUBTOTAL(9,L29:L33) -> 7992578.8 | N34: =SUBTOTAL(9,N29:N33) -> 1201861.2 | O34: =SUBTOTAL(9,O29:O33) -> 1201861.2 | P34: =SUBTOTAL(9,P29:P33) -> 10396301 | R34: =SUBTOTAL(9,R29:R33) -> 1201861.2 | S34: =SUBTOTAL(9,S29:S33) -> 1201861.2 | T34: =SUBTOTAL(9,T29:T33) -> 12800024
C36: Server Support Charges
C37: Server Support Services - Physical (Primary DC)
D38: Windows Server – Tier 1 | F38: 0 | G38: 0 | H38: 0 | I38: ='2 - Monthly Unit Rates'!I38*'3 - Estimated Volumes'!I39*12 -> 0 | J38: ='2 - Monthly Unit Rates'!J38*'3 - Estimated Volumes'!J39*12 -> 0 | K38: ='2 - Monthly Unit Rates'!K38*'3 - Estimated Volumes'!K39*12 -> 0 | L38: =SUM(F38:K38) -> 0 | N38: 0 | O38: 0 | P38: =SUM(L38:O38) -> 0 | R38: 0 | S38: 0 | T38: =SUM(P38:S38) -> 0
D39: Windows Server – Tier 1 Cluster | F39: 0 | G39: 0 | H39: 0 | I39: ='2 - Monthly Unit Rates'!I39*'3 - Estimated Volumes'!I40*12 -> 0 | J39: ='2 - Monthly Unit Rates'!J39*'3 - Estimated Volumes'!J40*12 -> 0 | K39: ='2 - Monthly Unit Rates'!K39*'3 - Estimated Volumes'!K40*12 -> 0 | L39: =SUM(F39:K39) -> 0 | N39: 0 | O39: 0 | P39: =SUM(L39:O39) -> 0 | R39: 0 | S39: 0 | T39: =SUM(P39:S39) -> 0
D40: Windows Server – Tier 2 | F40: 0 | G40: 0 | H40: 0 | I40: ='2 - Monthly Unit Rates'!I40*'3 - Estimated Volumes'!I41*12 -> 0 | J40: ='2 - Monthly Unit Rates'!J40*'3 - Estimated Volumes'!J41*12 -> 0 | K40: ='2 - Monthly Unit Rates'!K40*'3 - Estimated Volumes'!K41*12 -> 0 | L40: =SUM(F40:K40) -> 0 | N40: 0 | O40: 0 | P40: =SUM(L40:O40) -> 0 | R40: 0 | S40: 0 | T40: =SUM(P40:S40) -> 0
D41: Windows Server – Tier 3 | F41: 1228800 | G41: 1102286.7 | H41: 982624.02 | I41: ='2 - Monthly Unit Rates'!I41*'3 - Estimated Volumes'!I42*12 -> 889317.73 | J41: ='2 - Monthly Unit Rates'!J41*'3 - Estimated Volumes'!J42*12 -> 804507.09 | K41: ='2 - Monthly Unit Rates'!K41*'3 - Estimated Volumes'!K42*12 -> 743588.85 | L41: =SUM(F41:K41) -> 5751124.4 | N41: 667546.58 | O41: 667546.58 | P41: =SUM(L41:O41) -> 7086217.6 | R41: 667546.58 | S41: 667546.58 | T41: =SUM(P41:S41) -> 8421310.7
D42: Linux Server – Tier 1 | F42: 0 | G42: 0 | H42: 0 | I42: ='2 - Monthly Unit Rates'!I42*'3 - Estimated Volumes'!I43*12 -> 0 | J42: ='2 - Monthly Unit Rates'!J42*'3 - Estimated Volumes'!J43*12 -> 0 | K42: ='2 - Monthly Unit Rates'!K42*'3 - Estimated Volumes'!K43*12 -> 0 | L42: =SUM(F42:K42) -> 0 | N42: 0 | O42: 0 | P42: =SUM(L42:O42) -> 0 | R42: 0 | S42: 0 | T42: =SUM(P42:S42) -> 0
D43: Linux Server – Tier 1 Cluster | F43: 0 | G43: 0 | H43: 0 | I43: ='2 - Monthly Unit Rates'!I43*'3 - Estimated Volumes'!I44*12 -> 0 | J43: ='2 - Monthly Unit Rates'!J43*'3 - Estimated Volumes'!J44*12 -> 0 | K43: ='2 - Monthly Unit Rates'!K43*'3 - Estimated Volumes'!K44*12 -> 0 | L43: =SUM(F43:K43) -> 0 | N43: 0 | O43: 0 | P43: =SUM(L43:O43) -> 0 | R43: 0 | S43: 0 | T43: =SUM(P43:S43) -> 0
D44: Linux Server – Tier 2 | F44: 0 | G44: 0 | H44: 0 | I44: ='2 - Monthly Unit Rates'!I44*'3 - Estimated Volumes'!I45*12 -> 0 | J44: ='2 - Monthly Unit Rates'!J44*'3 - Estimated Volumes'!J45*12 -> 0 | K44: ='2 - Monthly Unit Rates'!K44*'3 - Estimated Volumes'!K45*12 -> 0 | L44: =SUM(F44:K44) -> 0 | N44: 0 | O44: 0 | P44: =SUM(L44:O44) -> 0 | R44: 0 | S44: 0 | T44: =SUM(P44:S44) -> 0
D45: Linux Server – Tier 3 | F45: 981000 | G45: 883591.25 | H45: 791005.14 | I45: ='2 - Monthly Unit Rates'!I45*'3 - Estimated Volumes'!I46*12 -> 719041.32 | J45: ='2 - Monthly Unit Rates'!J45*'3 - Estimated Volumes'!J46*12 -> 653439.98 | K45: ='2 - Monthly Unit Rates'!K45*'3 - Estimated Volumes'!K46*12 -> 603970.79 | L45: =SUM(F45:K45) -> 4632048.5 | N45: 542197.37 | O45: 542197.37 | P45: =SUM(L45:O45) -> 5716443.2 | R45: 542197.37 | S45: 542197.37 | T45: =SUM(P45:S45) -> 6800837.9
...

Sheet 2 - Monthly Unit Rates
B1: VA-180815-UC - FC20241025
A2: Monthly Unit Rates ($)
F3: 1.02 | L3: Renewal Option 1 | N3: Renewal Option 2
B4: Resource Description | E4: Metric | F4: Contract Year 1 | G4: Contract Year 2 | H4: Contract Year 3 | I4: Contract Year 4 | J4: Contract Year 5 | K4: Contract Year 6 | L4: Contract Year 7 | M4: Contract Year 8 | N4: Contract Year 9 | O4: Contract Year 10
B5: CROSS FUNCTIONAL
C6: Cross Functional Services
D7: Account Management | E7: Fixed | F7: 304657.17 | G7: 279983.26 | H7: 283098.43 | I7: 290742.09 | J7: 298592.13 | K7: 306653.93 | L7: 328308 | M7: 328308 | N7: 328308 | O7: 328308
B10: SERVER & STORAGE
C11: Hardware Charge
C12: Hardware Services Charge
D13: Hardware Service Charge (HSC) - Host of Remote VM (Linux or Windows) | E13: Dollars
D14: Hardware Service Charge (HSC) - Host of Unix VM | E14: Dollars
D15: Hardware Service Charge (HSC) - Physical x86 | E15: Dollars
D16: Hardware Service Charge (HSC) - Physical Unix Servers | E16: Dollars
D17: Hardware Service Charge (HSC) - Remote NAS & SAN | E17: Dollars
D18: Hardware Service Charge (HSC) - Existing Hardware Asset Maintenance | E18: Dollars
E19: Dollars
C22: Private Cloud Hardware Allocation (Central DC)
D23: Virtual Cores | E23: Core | F23: 2.5 | G23: 2.5 | H23: 2.45 | I23: 2.401 | J23: 2.35298 | K23: 2.35298 | L23: 2.35298 | M23: 2.35298 | N23: 2.35298 | O23: 2.35298
D24: Virtual Memory | E24: GB | F24: 1.1 | G24: 1.1 | H24: 1.078 | I24: 1.05644 | J24: 1.0353112 | K24: 1.0353112 | L24: 1.0353112 | M24: 1.0353112 | N24: 1.0353112 | O24: 1.0353112
C27: Software Charges
C28: Software Services Charge
D29: Linux - (Physical or Virtual nodes) | E29: Instance | F29: 110 | G29: 110 | H29: 110 | I29: 110 | J29: 110 | K29: 110 | L29: 110 | M29: 110 | N29: 110 | O29: 110
D30: Windows | E30: Instance | F30: 37.5 | G30: 37.5 | H30: 37.5 | I30: 37.5 | J30: 37.5 | K30: 37.5 | L30: 37.5 | M30: 37.5 | N30: 37.5 | O30: 37.5
D31: AIX | E31: Processor | F31: 103.82353 | G31: 103.82353 | H31: 103.82353 | I31: 103.82353 | J31: 103.82353 | K31: 103.82353 | L31: 103.82353 | M31: 103.82353 | N31: 103.82353 | O31: 103.82353
D32: HP-UX | E32: Processor | F32: 289.21569 | G32: 289.21569 | H32: 289.21569 | I32: 289.21569 | J32: 289.21569 | K32: 289.21569 | L32: 289.21569 | M32: 289.21569 | N32: 289.21569 | O32: 289.21569
D33: Solaris | E33: Processor | F33: 397.05882 | G33: 397.05882 | H33: 397.05882 | I33: 397.05882 | J33: 397.05882 | K33: 397.05882 | L33: 397.05882 | M33: 397.05882 | N33: 397.05882 | O33: 397.05882
C36: Server Support Charges
C37: Server Support Services - Physical (Primary DC)
D38: Windows Server – Tier 1 | E38: Server | F38: 307.5 | G38: 306.38807 | H38: 303.36951 | I38: 306.27981 | J38: 307.77028 | K38: 316.08 | L38: 283.75 | M38: 283.75 | N38: 283.75 | O38: 283.75
D39: Windows Server – Tier 1 Cluster | E39: Server | F39: 492 | G39: 490.22091 | H39: 485.39122 | I39: 490.04769 | J39: 492.43245 | K39: 505.73 | L39: 454 | M39: 454 | N39: 454 | O39: 454
D40: Windows Server – Tier 2 | E40: Server | F40: 246 | G40: 245.11045 | H40: 242.69561 | I40: 245.02384 | J40: 246.21622 | K40: 252.86 | L40: 227 | M40: 227 | N40: 227 | O40: 227
D41: Windows Server – Tier 3 | E41: Server | F41: 200 | G41: 199.34294 | H41: 197.44728 | I41: 198.5538 | J41: 199.57615 | K41: 204.96 | L41: 184 | M41: 184 | N41: 184 | O41: 184
D42: Linux Server – Tier 1 | E42: Server | F42: 370 | G42: 369.95406 | H42: 367.64272 | I42: 370.96821 | J42: 375.55405 | K42: 385.69 | L42: 346.24351 | M42: 346.24351 | N42: 346.24351 | O42: 346.24351
D43: Linux Server – Tier 1 Cluster | E43: Server | F43: 592 | G43: 591.92649 | H43: 588.22835 | I43: 593.54914 | J43: 600.88647 | K43: 617.11 | L43: 553.98961 | M43: 553.98961 | N43: 553.98961 | O43: 553.98961
D44: Linux Server – Tier 2 | E44: Server | F44: 296 | G44: 295.96325 | H44: 294.11417 | I44: 296.77457 | J44: 300.44324 | K44: 308.56 | L44: 276.9948 | M44: 276.9948 | N44: 276.9948 | O44: 276.9948
D45: Linux Server – Tier 3 | E45: Server | F45: 250 | G45: 250.19573 | H45: 248.86584 | I45: 251.36067 | J45: 253.80879 | K45: 260.66 | L45: 234 | M45: 234 | N45: 234 | O45: 234
D46: UNIX | E46: Server | F46: 425 | G46: 423.09522 | H46: 419.57546 | I46: 422.46187 | J46: 425.19098 | K46: 436.67 | L46: 392.00647 | M46: 392.00647 | N46: 392.00647 | O46: 392.00647
D47: Appliance – Tier 1 | E47: Server | F47: 75 | G47: 76.279187 | H47: 77.127843 | I47: 79.210295 | J47: 81.348972 | K47: 83.55 | L47: 75 | M47: 75 | N47: 75 | O47: 75
D48: Appliance – Tier 3 | E48: Server | F48: 50 | G48: 50.852791 | H48: 51.418562 | I48: 52.806863 | J48: 54.232648 | K48: 55.7 | L48: 50 | M48: 50 | N48: 50 | O48: 50
...

Sheet 3 - Estimated Volumes
B1: VA-180815-UC - FC20241025
B2: Estimated Monthly Volumes
N4: Renewal Option 1 | R4: Renewal Option 2
B5: Resource Description | E5: Metric | F5: Contract Year 1 | G5: Contract Year 2 | H5: Contract Year 3 | I5: Contract Year 4 | J5: Contract Year 5 | K5: Contract Year 6 | N5: Contract Year 7 | O5: Contract Year 8 | R5: Contract Year 9 | S5: Contract Year 10
B6: CROSS FUNCTIONAL
C7: Cross Functional Services | D7: 0 | E7: 0 | F7: 0 | G7: 0 | H7: 0 | I7: 0 | J7: 0 | K7: 0
D8: Account Management | E8: Fixed | F8: 1 | G8: =F8 -> 1 | H8: =G8 -> 1 | I8: =H8 -> 1 | J8: =I8 -> 1 | K8: =J8 -> 1 | N8: =K8 -> 1 | O8: =N8 -> 1 | R8: =O8 -> 1 | S8: =R8 -> 1
B11: SERVER & STORAGE
C12: Hardware Charge
C13: Hardware Services Charge
D14: Hardware Service Charge (HSC) - Host of Remote VM (Linux or Windows) | E14: Dollars | F14: 11 | G14: 11 | H14: 8 | I14: 8 | J14: 8 | K14: 8 | N14: =K14 -> 8 | O14: =N14 -> 8 | R14: =O14 -> 8 | S14: =R14 -> 8
D15: Hardware Service Charge (HSC) - Host of Unix VM | E15: Dollars | F15: 5 | G15: 5 | H15: 5 | I15: 0 | J15: 0 | K15: 0 | N15: =K15 -> 0 | O15: =N15 -> 0 | R15: =O15 -> 0 | S15: =R15 -> 0
D16: Hardware Service Charge (HSC) - Physical x86 | E16: Dollars | F16: 367.32 | G16: 342.048 | H16: 212.8688 | I16: 199.22192 | J16: 186.93973 | K16: 175.88576
D17: Hardware Service Charge (HSC) - Physical Unix Servers | E17: Dollars | F17: 15 | G17: 15 | H17: 5 | I17: 0 | J17: 0 | K17: 0 | N17: =K17 -> 0 | O17: =N17 -> 0 | R17: =O17 -> 0 | S17: =R17 -> 0
D18: Hardware Service Charge (HSC) - Remote NAS & SAN | E18: Dollars | F18: 1 | G18: 127 | H18: 35 | I18: 1 | N18: 126 | O18: 35
D19: Hardware Service Charge (HSC) - Existing Hardware Asset Maintenance | E19: Dollars | F19: 1 | G19: 1 | H19: 1 | I19: 1 | J19: 1 | K19: 1 | O19: =N19 -> 0 | R19: =O19 -> 0 | S19: =R19 -> 0
C23: Private Cloud Hardware Allocation (Central DC)
D24: Virtual Cores | E24: Core | F24: 3626.64 | G24: 3962.24 | H24: 4264.28 | I24: 4536.116 | J24: 4780.7684 | K24: 5000.9556 | N24: =K24 -> 5000.9556 | O24: =N24 -> 5000.9556 | R24: =O24 -> 5000.9556 | S24: =R24 -> 5000.9556
D25: Virtual Memory | E25: GB | F25: 19542 | G25: 20884.4 | H25: 22092.56 | I25: 23179.904 | J25: 24158.514 | K25: 25039.262 | N25: =K25 -> 25039.262 | O25: =N25 -> 25039.262 | R25: =O25 -> 25039.262 | S25: =R25 -> 25039.262
C28: Software Charges
C29: Software Services Charge
D30: Linux Phy | E30: Instance | F30: =F46+F55+F64+F71 -> 581 | G30: =G46+G55+G64+G71 -> 581 | H30: =H46+H55+H64+H71 -> 581 | I30: =I46+I55+I64+I71 -> 581 | J30: =J46+J55+J64+J71 -> 581 | K30: =K46+K55+K64+K71 -> 581 | N30: =N46+N55+N64+N71 -> 581 | O30: =O46+O55+O64+O71 -> 581 | R30: =R46+R55+R64+R71 -> 581 | S30: =S46+S55+S64+S71 -> 581
D31: Windows | E31: Instance | F31: 0 | G31: 0 | H31: 0 | I31: 0 | J31: 0 | K31: 0 | N31: =K31 -> 0 | O31: =N31 -> 0 | R31: =O31 -> 0 | S31: =R31 -> 0
D32: AIX | E32: Processor | G32: 0 | H32: 0 | I32: 0 | J32: 0 | K32: 0 | N32: =K32 -> 0 | O32: =N32 -> 0 | R32: =O32 -> 0 | S32: =R32 -> 0
D33: HP-UX | E33: Processor | F33: 10 | G33: 10 | H33: 10 | I33: 10 | J33: 10 | K33: 10 | N33: =K33 -> 10 | O33: =N33 -> 10 | R33: =O33 -> 10 | S33: =R33 -> 10
D34: Solaris | E34: Processor | F34: 142 | G34: 128 | H34: 116 | I34: 104 | J34: 94 | K34: 84 | N34: =K34 -> 84 | O34: =N34 -> 84 | R34: =O34 -> 84 | S34: =R34 -> 84
C37: Server Support Charges
C38: Server Support Services - Physical (Primary DC)
D39: Windows Server – Tier 1 | E39: Server | F39: 0 | G39: 0 | H39: 0 | I39: 0 | J39: 0 | K39: 0 | N39: =K39 -> 0 | O39: =N39 -> 0 | R39: =O39 -> 0 | S39: =R39 -> 0
D40: Windows Server – Tier 1 Cluster | E40: Server | F40: 0 | G40: 0 | H40: 0 | I40: 0 | J40: 0 | K40: 0 | N40: =K40 -> 0 | O40: =N40 -> 0 | R40: =O40 -> 0 | S40: =R40 -> 0
D41: Windows Server – Tier 2 | E41: Server | F41: 0 | G41: 0 | H41: 0 | I41: 0 | J41: 0 | K41: 0 | N41: =K41 -> 0 | O41: =N41 -> 0 | R41: =O41 -> 0 | S41: =R41 -> 0
D42: Windows Server – Tier 3 | E42: Server | F42: 512 | G42: 460.8 | H42: 414.72 | I42: 373.248 | J42: 335.9232 | K42: 302.33088 | N42: =K42 -> 302.33088 | O42: =N42 -> 302.33088 | R42: =O42 -> 302.33088 | S42: =R42 -> 302.33088
D43: Linux Server – Tier 1 | E43: Server | F43: 0 | G43: 0 | H43: 0 | I43: 0 | J43: 0 | K43: 0 | N43: =K43 -> 0 | O43: =N43 -> 0 | R43: =O43 -> 0 | S43: =R43 -> 0
D44: Linux Server – Tier 1 Cluster | E44: Server | F44: 0 | G44: 0 | H44: 0 | I44: 0 | J44: 0 | K44: 0 | N44: =K44 -> 0 | O44: =N44 -> 0 | R44: =O44 -> 0 | S44: =R44 -> 0
D45: Linux Server – Tier 2 | E45: Server | F45: 0 | G45: 0 | H45: 0 | I45: 0 | J45: 0 | K45: 0 | N45: =K45 -> 0 | O45: =N45 -> 0 | R45: =O45 -> 0 | S45: =R45 -> 0
D46: Linux Server – Tier 3 | E46: Server | F46: 327 | G46: 294.3 | H46: 264.87 | I46: 238.383 | J46: 214.5447 | K46: 193.09023 | N46: =K46 -> 193.09023 | O46: =N46 -> 193.09023 | R46: =O46 -> 193.09023 | S46: =R46 -> 193.09023
D47: UNIX | E47: Server | F47: 28 | G47: 24 | H47: 21 | I47: 18 | J47: 16 | K47: 14 | N47: =K47 -> 14 | O47: =N47 -> 14 | R47: =O47 -> 14 | S47: =R47 -> 14
D48: Appliance – Tier 1 | E48: Server | F48: 0 | G48: 0 | H48: 0 | I48: 0 | J48: 0 | K48: 0 | N48: =K48 -> 0 | O48: =N48 -> 0 | R48: =O48 -> 0 | S48: =R48 -> 0
D49: Appliance – Tier 3 | E49: Server | F49: 8 | G49: 8 | H49: 8 | I49: 8 | J49: 8 | K49: 8 | N49: =K49 -> 8 | O49: =N49 -> 8 | R49: =O49 -> 8 | S49: =R49 -> 8
C51: Server Support Services - Virtual (Primary DC)
...

Sheet Summary Pricing
B1: VA-180815-UC - FC20241025
B2: Summary of Charges ($)
L5: Option Year
B6: Charge Description | E6: Year 1 * | F6: Year 2 | G6: Year 3 | H6: Year 4 | I6: Year 5 | J6: Year 6 | K6: 6 Year Total | L6: Year 7 | M6: Year 8 | N6: Year 9 | O6: Year 10 | P6: 10 Years Total
B7: Server Services
D9: Base Charges | E9: ='1- Total Estimated Charges'!F198 -> 33528123 | F9: ='1- Total Estimated Charges'!G198 -> 35532668 | G9: ='1- Total Estimated Charges'!H198 -> 36519340 | H9: ='1- Total Estimated Charges'!I198 -> 39283113 | I9: ='1- Total Estimated Charges'!J198 -> 37988926 | J9: ='1- Total Estimated Charges'!K198 -> 39411162 | K9: ='1- Total Estimated Charges'!L198 -> 2.2226333e+08 | L9: 34470227 | M9: 34470227 | N9: 34539769 | O9: 34539769 | P9: =SUM(K9:O9) -> 3.6028332e+08
D11: Pass-Through Expenses | E11: 4426867.9 | F11: 4426867.9 | G11: 4176121.7 | H11: 3988062 | I11: 275400 | J11: 275400 | K11: 17568720 | L11: 275400 | M11: 275400 | N11: 275400 | O11: 275400 | P11: =SUM(K11:O11) -> 18670320
D13: Transition Charges (*) | E13: 7998000 | F13: 0 | G13: 0 | H13: 0 | I13: 0 | J13: 0 | K13: 7998000 | L13: 0 | M13: 0 | N13: 0 | O13: 0 | P13: =SUM(K13:O13) -> 7998000
B15: TOTAL SERVER SERVICES | E15: =SUM(E9:E13) -> 45952991 | F15: =SUM(F9:F13) -> 39959536 | G15: =SUM(G9:G13) -> 40695462 | H15: =SUM(H9:H13) -> 43271175 | I15: =SUM(I9:I13) -> 38264326 | J15: =SUM(J9:J13) -> 39686562 | K15: =SUM(E15:J15) -> 2.4783005e+08 | L15: 34745627 | M15: 34745627 | N15: 34815169 | O15: 34815169 | P15: =SUM(K15:O15) -> 3.8695164e+08
B18: (*) Shows Y-1 / Y1 combined
E21: Y0 | F21: Y1 | G21: Y2 | H21: Y3 | I21: Y4 | J21: Y5 | K21: Y6 | L21: Total
D22: Transition | E22: 7500000 | F22: 498000 | G22: 0 | H22: 0 | I22: 0 | J22: 0 | K22: 0 | L22: 7998000
D23: Passthrough | F23: 4426867.9 | G23: 4426867.9 | H23: 4176121.7 | I23: 3988062 | J23: 275400 | K23: 275400 | L23: 17568720
D24: Base | F24: 33528123 | G24: 35532668 | H24: 36519340 | I24: 38148530 | J24: 36319378 | K24: 37067883 | L24: 2.1711592e+08
E26: 7500000 | F26: 38452991 | G26: 39959536 | H26: 40695462 | I26: 42136591 | J26: 36594778 | K26: 37343283 | L26: 2.4268264e+08

Sheet 4 - HSC
C1: VA-180815-UC - FC20241025
B2: Hardware Service Charge Estimate ($)
B3: Note 1: HSC dollars listed here are not in addition to HSC dollars listed in the Total Estimated Charges tab and should be included in the Total Estimate Charges.
C5: 1.02 | D5: CY1Q1 | E5: CY1Q2 | F5: CY1Q3 | G5: CY1Q4 | H5: Contract Year 1 Total | I5: CY2Q1 | J5: CY2Q2 | K5: CY2Q3 | L5: CY2Q4 | M5: Contract Year 2 Total | N5: Contract Year 3 | O5: Contract Year 4 | P5: Contract Year 5 | Q5: Contract Year 6 | R5: 6 Year Total | S5: Contract Year 7 | T5: Contract Year 8 | U5: 8 Year Total | V5: Contract Year 9 | W5: Contract Year 10 | X5: 10 Year Total
C8: HSC - Totals
C9: Number of servers | D9: =D22+D35+D48+D61+D74+D87 -> 378.32 | E9: =E22+E35+E48+E61+E74+E87 -> 0 | F9: =F22+F35+F48+F61+F74+F87 -> 0 | G9: =G22+G35+G48+G61+G74+G87 -> 1 | I9: =I22+I35+I48+I61+I74+I87 -> 400.048 | J9: =J22+J35+J48+J61+J74+J87 -> 91 | K9: =K22+K35+K48+K61+K74+K87 -> 6 | L9: =L22+L35+L48+L61+L74+L87 -> 42 | N9: =N22+N35+N48+N61+N74+N87 -> 255.8688 | O9: =O22+O35+O48+O61+O74+O87 -> 208.22192 | P9: =P22+P35+P48+P61+P74+P87 -> 194.93973 | Q9: =Q22+Q35+Q48+Q61+Q74+Q87 -> 183.88576 | S9: =S22+S35+S48+S61+S74+S87 -> 126 | T9: =T22+T35+T48+T61+T74+T87 -> 35 | V9: =V22+V35+V48+V61+V74+V87 -> 0 | W9: =W22+W35+W48+W61+W74+W87 -> 0
C10: Average cost per server
C11: Server hardware | D11: =D24+D37+D50+D63+D76+D89 -> 2427616.8 | E11: =E24+E37+E50+E63+E76+E89 -> 0 | F11: =F24+F37+F50+F63+F76+F89 -> 0 | G11: =G24+G37+G50+G63+G76+G89 -> 144552 | H11: =SUM(D11:G11) -> 2572168.8 | I11: =I24+I37+I50+I63+I76+I89 -> 4613306.2 | J11: =J24+J37+J50+J63+J76+J89 -> 1456166.9 | K11: =K24+K37+K50+K63+K76+K89 -> 219573.88 | L11: =L24+L37+L50+L63+L76+L89 -> 262691.2 | M11: =SUM(I11:L11) -> 6551738.2 | N11: =N24+N37+N50+N63+N76+N89 -> 1607480.1 | O11: =O24+O37+O50+O63+O76+O89 -> 1424063.2 | P11: =P24+P37+P50+P63+P76+P89 -> 1235521.7 | Q11: =Q24+Q37+Q50+Q63+Q76+Q89 -> 1118988.9 | R11: =SUM(H11+M11+N11+O11+P11+Q11) -> 14509961 | S11: =S24+S37+S50+S63+S76+S89 -> 814637.88 | T11: =T24+T37+T50+T63+T76+T89 -> 226288.3 | U11: =R11+S11+T11 -> 15550887 | V11: =V24+V37+V50+V63+V76+V89 -> 0 | W11: =W24+W37+W50+W63+W76+W89 -> 0 | X11: =U11+V11+W11 -> 15550887
C12: Server hardware maintenance | D12: =D25+D38+D51+D64+D77+D90 -> 1727104.8 | E12: =E25+E38+E51+E64+E77+E90 -> 0 | F12: =F25+F38+F51+F64+F77+F90 -> 0 | G12: =G25+G38+G51+G64+G77+G90 -> 45715.369 | H12: =SUM(D12:G12) -> 1772820.2 | I12: =I25+I38+I51+I64+I77+I90 -> 2277270.1 | J12: =J25+J38+J51+J64+J77+J90 -> 820353.93 | K12: =K25+K38+K51+K64+K77+K90 -> 84963.195 | L12: =L25+L38+L51+L64+L77+L90 -> 92296.908 | M12: =SUM(I12:L12) -> 3274884.2 | N12: =N25+N38+N51+N64+N77+N90 -> 596427.26 | O12: =O25+O38+O51+O64+O77+O90 -> 426639.43 | P12: =P25+P38+P51+P64+P77+P90 -> 385897.67 | Q12: =Q25+Q38+Q51+Q64+Q77+Q90 -> 338684.98 | R12: =SUM(H12+M12+N12+O12+P12+Q12) -> 6795353.7 | S12: =S25+S38+S51+S64+S77+S90 -> 286224.12 | T12: =T25+T38+T51+T64+T77+T90 -> 79506.7 | U12: =R12+S12+T12 -> 7161084.5 | V12: =V25+V38+V51+V64+V77+V90 -> 0 | W12: =W25+W38+W51+W64+W77+W90 -> 0 | X12: =U12+V12+W12 -> 7161084.5
C13: Other | H13: =SUM(D13:G13) -> 0 | M13: =SUM(I13:L13) -> 0 | R13: =SUM(D13:Q13) -> 0 | U13: =R13+S13+T13 -> 0 | X13: =U13+V13+W13 -> 0
C14: Total | D14: =SUM(D11:D13) -> 4154721.6 | E14: =SUM(E11:E13) -> 0 | F14: =SUM(F11:F13) -> 0 | G14: =SUM(G11:G13) -> 190267.37 | H14: =SUM(H11:H13) -> 4344989 | I14: =SUM(I11:I13) -> 6890576.3 | J14: =SUM(J11:J13) -> 2276520.8 | K14: =SUM(K11:K13) -> 304537.08 | ... Q14: =SUM(Q11:Q13) -> 1457673.9 | R14: =SUM(H14+M14+N14+O14+P14+Q14) -> 21305315 | S14: =SUM(S11:S13) -> 1100862 | T14: =SUM(T11:T13) -> 305795 | U14: =R14+S14+T14 -> 22711972 | V14: =SUM(V11:V13) -> 0 | W14: =SUM(W11:W13) -> 0 | X14: =U14+V14+W14 -> 22711972
S17: Renewal Option 1 | V17: Reneal Option 2
C18: 1.02 | D18: CY1Q1 | E18: CY1Q2 | F18: CY1Q3 | G18: CY1Q4 | H18: Contract Year 1 Total | I18: CY2Q1 | J18: CY2Q2 | K18: CY2Q3 | L18: CY2Q4 | M18: Contract Year 2 Total | N18: Contract Year 3 | O18: Contract Year 4 | P18: Contract Year 5 | Q18: Contract Year 6 | R18: 6 Year Total | S18: Contract Year 7 | T18: Contract Year 8 | U18: 8 Year Total | V18: Contract Year 9 | W18: Contract Year 10 | X18: 10 Year Total
C21: Hardware Service Charge (HSC) - Host of Remote VM (Linux or Windows)
C22: Number of servers | D22: 11 | E22: 0 | F22: 0 | G22: 0 | I22: 11 | J22: 0 | K22: 0 | L22: 0 | N22: 8 | O22: 8 | P22: 8 | Q22: 8 | R22: =SUM(D22:Q22) -> 54
C23: Average cost per server | D23: =D27/D22 -> 9175.9798 | I23: =I27/I22 -> 9175.9798 | N23: =N27/N22 -> 9175.9798 | O23: =O27/O22 -> 9175.9798 | P23: =P27/P22 -> 9175.9798 | Q23: =Q27/Q22 -> 9175.9798
C24: Server hardware | D24: 81569.742 | H24: =SUM(D24:G24) -> 81569.742 | I24: 81569.742 | M24: =SUM(I24:L24) -> 81569.742 | N24: 59323.449 | O24: 59323.449 | P24: 59323.449 | Q24: 59323.449 | R24: =SUM(H24+M24+N24+O24+P24+Q24) -> 400433.28 | U24: =R24+S24+T24 -> 400433.28 | X24: =U24+V24+W24 -> 400433.28
C25: Server hardware maintenance | D25: 19366.036 | H25: =SUM(D25:G25) -> 19366.036 | I25: 19366.036 | M25: =SUM(I25:L25) -> 19366.036 | N25: 14084.39 | O25: 14084.39 | P25: 14084.39 | Q25: 14084.39 | R25: =SUM(H25+M25+N25+O25+P25+Q25) -> 95069.63 | U25: =R25+S25+T25 -> 95069.63 | X25: =U25+V25+W25 -> 95069.63
C26: Other | H26: =SUM(D26:G26) -> 0 | M26: =SUM(I26:L26) -> 0 | R26: =SUM(D26:Q26) -> 0 | S26: 0 | T26: 0 | U26: =R26+S26+T26 -> 0 | V26: 0 | W26: 0 | X26: =U26+V26+W26 -> 0
C27: Total | D27: =SUM(D24:D26) -> 100935.78 | H27: =SUM(H24:H26) -> 100935.78 | I27: =SUM(I24:I26) -> 100935.78 | M27: =SUM(M24:M26) -> 100935.78 | N27: =SUM(N24:N26) -> 73407.838 | O27: =SUM(O24:O26) -> 73407.838 | P27: =SUM(P24:P26) -> 73407.838 | Q27: =SUM(Q24:Q26) -> 73407.838 | R27: =SUM(H27+M27+N27+O27+P27+Q27) -> 495502.91 | S27: =SUM(S24:S26) -> 0 | T27: =SUM(T24:T26) -> 0 | U27: =R27+S27+T27 -> 495502.91 | V27: =SUM(V24:V26) -> 0 | W27: =SUM(W24:W26) -> 0 | X27: =U27+V27+W27 -> 495502.91
S30: Renewal Option 1 | V30: Reneal Option 2
C31: 1.02 | D31: CY1Q1 | E31: CY1Q2 | F31: CY1Q3 | G31: CY1Q4 | H31: Contract Year 1 Total | I31: CY2Q1 | J31: CY2Q2 | K31: CY2Q3 | L31: CY2Q4 | M31: Contract Year 2 Total | N31: Contract Year 3 | O31: Contract Year 4 | P31: Contract Year 5 | Q31: Contract Year 6 | R31: 6 Year Total | S31: Contract Year 7 | T31: Contract Year 8 | U31: 8 Year Total | V31: Contract Year 9 | W31: Contract Year 10 | X31: 10 Year Total
C34: Hardware Service Charge (HSC) - Host of Unix VM
C35: Number of servers | I35: 5 | R35: =SUM(D35:Q35) -> 5 | S35: 0 | T35: 0 | V35: 0 | W35: 0
C36: Average cost per server | I36: =I40/I35 -> 636036.52 | S36: 0 | T36: 0 | V36: 0 | W36: 0
C37: Server hardware | H37: =SUM(D37:G37) -> 0 | I37: 2101421.7 | M37: =SUM(I37:L37) -> 2101421.7 | R37: =SUM(H37+M37+N37+O37+P37+Q37) -> 2101421.7 | S37: 0 | T37: 0 | U37: =R37+S37+T37 -> 2101421.7 | V37: 0 | W37: 0 | X37: =U37+V37+W37 -> 2101421.7
C38: Server hardware maintenance | H38: =SUM(D38:G38) -> 0 | I38: 1078760.9 | M38: =SUM(I38:L38) -> 1078760.9 | R38: =SUM(H38+M38+N38+O38+P38+Q38) -> 1078760.9 | S38: 0 | T38: 0 | U38: =R38+S38+T38 -> 1078760.9 | V38: 0 | W38: 0 | X38: =U38+V38+W38 -> 1078760.9
C39: Other | H39: =SUM(D39:G39) -> 0 | M39: =SUM(I39:L39) -> 0 | R39: =SUM(D39:Q39) -> 0 | S39: 0 | T39: 0 | U39: =R39+S39+T39 -> 0 | V39: 0 | W39: 0 | X39: =U39+V39+W39 -> 0
C40: Total | D40: =SUM(D37:D39) -> 0 | E40: =SUM(E37:E39) -> 0 | F40: =SUM(F37:F39) -> 0 | G40: =SUM(G37:G39) -> 0 | H40: =SUM(H37:H39) -> 0 | I40: =SUM(I37:I39) -> 3180182.6 | J40: =SUM(J37:J39) -> 0 | K40: =SUM(K37:K39) -> 0 | ... Q40: =SUM(Q37:Q39) -> 0 | R40: =SUM(H40+M40+N40+O40+P40+Q40) -> 3180182.6 | S40: 0 | T40: 0 | U40: =R40+S40+T40 -> 3180182.6 | V40: 0 | W40: 0 | X40: =U40+V40+W40 -> 3180182.6
S43: Renewal Option 1 | V43: Reneal Option 2
C44: 1.02 | D44: CY1Q1 | E44: CY1Q2 | F44: CY1Q3 | G44: CY1Q4 | H44: Contract Year 1 Total | I44: CY2Q1 | J44: CY2Q2 | K44: CY2Q3 | L44: CY2Q4 | M44: Contract Year 2 Total | N44: Contract Year 3 | O44: Contract Year 4 | P44: Contract Year 5 | Q44: Contract Year 6 | R44: 6 Year Total | S44: Contract Year 7 | T44: Contract Year 8 | U44: 8 Year Total | V44: Contract Year 9 | W44: Contract Year 10 | X44: 10 Year Total
C47: Hardware Service Charge (HSC) - Physical x86
C48: Number of servers | D48: 367.32 | I48: 342.048 | N48: 212.8688 | O48: 199.22192 | P48: 186.93973 | Q48: 175.88576 | R48: =SUM(D48:Q48) -> 1484.2842 | S48: 0 | T48: 0 | V48: 0 | W48: 0
C49: Average cost per server | D49: =D53/D48 -> 8550.4257 | I49: =I53/I48 -> 8446.9211 | N49: =N53/N48 -> 8189.8886 | O49: =O53/O48 -> 7966.1286 | P49: =P53/P48 -> 8280.8057 | Q49: =Q53/Q48 -> 7870.2567 | S49: 0 | T49: 0 | V49: 0 | W49: 0
C50: Server hardware | D50: 2346047.1 | H50: =SUM(D50:G50) -> 2346047.1 | I50: 2167623.5 | M50: =SUM(I50:L50) -> 2167623.5 | N50: 1329247.3 | O50: 1220187.8 | P50: 1176198.3 | Q50: 1059665.5 | R50: =SUM(D50:Q50) -> 13812640 | S50: 0 | T50: 0 | U50: =R50 -> 13812640 | V50: 0 | W50: 0 | X50: =U50 -> 13812640
C51: Server hardware maintenance | D51: 794695.3 | H51: =SUM(D51:G51) -> 794695.3 | I51: 721628.93 | M51: =SUM(I51:L51) -> 721628.93 | N51: 414124.43 | O51: 366839.67 | P51: 371813.28 | Q51: 324600.59 | R51: =SUM(D51:Q51) -> 4510026.5 | S51: 0 | T51: 0 | U51: =R51 -> 4510026.5 | V51: 0 | W51: 0 | X51: =U51 -> 4510026.5
C52: Other | H52: =SUM(D52:G52) -> 0 | M52: 0 | R52: =SUM(D52:Q52) -> 0 | S52: 0 | T52: 0 | U52: 0 | V52: 0 | W52: 0 | X52: 0
C53: Total | D53: =SUM(D50:D52) -> 3140742.4 | E53: =SUM(E50:E52) -> 0 | F53: =SUM(F50:F52) -> 0 | G53: =SUM(G50:G52) -> 0 | H53: =SUM(H50:H52) -> 3140742.4 | I53: =SUM(I50:I52) -> 2889252.5 | J53: =SUM(J50:J52) -> 0 | K53: =SUM(K50:K52) -> 0 | ... Q53: =SUM(Q50:Q52) -> 1384266 | R53: =SUM(H53+M53+N53+O53+P53+Q53) -> 12292672 | S53: 0 | T53: 0 | U53: =R53 -> 12292672 | V53: 0 | W53: 0 | X53: =U53 -> 12292672
C54: * Unix boxes will be handle on the case by case basis
S56: Renewal Option 1 | V56: Reneal Option 2
...

Sheet 5 - Pass-Through
B1: VA-180815-UC - FC20241025
B2: Pass-Through Expenses ($) (Estimated)
M6: Renewal Option 1 | Q6: Renewal Option 2
B7: Description | E7: Contract Year 1 | F7: Contract Year 2 | G7: Contract Year 3 | H7: Contract Year 4 | I7: Contract Year 5 | J7: Contract Year 6 | K7: 6 Year Total | M7: Contract Year 7 | N7: Contract Year 8 | O7: 8 Year Total | Q7: Contract Year 9 | R7: Contract Year 10 | S7: 10 Year Total
B8: DATA CENTER MANAGEMENT
C9: Pass-Through Expenses (Estimated)
D10: SOC 2, Type 2 Audit | E10: 275400 | F10: 275400 | G10: 275400 | H10: 275400 | I10: 275400 | J10: 275400 | K10: =SUM(E10:J10) -> 1652400 | M10: =J10 -> 275400 | N10: =M10 -> 275400 | O10: =SUM(K10:N10) -> 2203200 | Q10: =N10 -> 275400 | R10: =Q10 -> 275400 | S10: =SUM(O10:R10) -> 2754000
D11: Public Cloud Consumption: monthly metered (N/A to RU based services) | E11: 0 | F11: 0 | G11: 0 | H11: 0 | I11: 0 | J11: 0 | K11: 0 | M11: TBD | N11: TBD | O11: TBD | Q11: TBD | R11: TBD | S11: TBD
D12: AWS | J12: List -10% | K12: list-10% | M12: TBD | N12: TBD | O12: TBD | Q12: TBD | R12: TBD | S12: TBD
D13: Oracle | J13: List-7% | K13: 0 | M13: TBD | N13: TBD | O13: TBD | Q13: TBD | R13: TBD | S13: TBD
D14: Google | J14: List | K14: 0 | M14: TBD | N14: TBD | O14: TBD | Q14: TBD | R14: TBD | S14: TBD
D15: Azure | J15: List-2% | K15: 0 | M15: TBD | N15: TBD | O15: TBD | Q15: TBD | R15: TBD | S15: TBD
D16: AWS Public Cloud 24x7 Enterprise Support | E16: 0 | F16: 0 | G16: 0 | H16: 0 | I16: 0 | J16: 0 | K16: * | M16: TBD | N16: TBD | O16: TBD | Q16: TBD | R16: TBD | S16: TBD
D17: AWS Resource as needed | J17: AWS Hourly rate | K17: AWS hourly rate
D18: CESC Facilities Management | E18: =241478.05*12 -> 2897736.6 | F18: =241478.05*12 -> 2897736.6 | G18: =241478.05*12 -> 2897736.6 | H18: =241478.05*12 -> 2897736.6 | I18: 0 | J18: 0 | K18: =SUM(E18:J18) -> 11590946 | M18: 0 | N18: 0 | O18: =SUM(K18:N18) -> 11590946 | Q18: 0 | R18: 0 | S18: =SUM(O18:R18) -> 11590946
D19: CESC Power Consumption | E19: 1253731.3 | F19: 1253731.3 | G19: =1253731.34*0.8 -> 1002985.1 | H19: =1253731.34*0.65 -> 814925.37 | I19: 0 | J19: 0 | K19: =SUM(E19:J19) -> 4325373.1 | M19: 0 | N19: 0 | O19: =SUM(K19:N19) -> 4325373.1 | Q19: 0 | R19: 0 | S19: =SUM(O19:R19) -> 4325373.1
D20: Other (insert description) | E20: 0 | F20: 0 | G20: 0 | H20: 0 | I20: 0 | J20: 0 | K20: =SUM(E20:J20) -> 0 | M20: 0 | N20: 0 | O20: =SUM(K20:N20) -> 0 | Q20: 0 | R20: 0 | S20: =SUM(O20:R20) -> 0
D21: Other (insert description) | E21: 0 | F21: 0 | G21: 0 | H21: 0 | I21: 0 | J21: 0 | K21: =SUM(E21:J21) -> 0 | M21: 0 | N21: 0 | O21: =SUM(K21:N21) -> 0 | Q21: 0 | R21: 0 | S21: =SUM(O21:R21) -> 0
D22: Other (insert description) | E22: 0 | F22: 0 | G22: 0 | H22: 0 | I22: 0 | J22: 0 | K22: =SUM(E22:J22) -> 0 | M22: 0 | N22: 0 | O22: =SUM(K22:N22) -> 0 | Q22: 0 | R22: 0 | S22: =SUM(O22:R22) -> 0
D23: Other (insert description) | E23: 0 | F23: 0 | G23: 0 | H23: 0 | I23: 0 | J23: 0 | K23: =SUM(E23:J23) -> 0 | M23: 0 | N23: 0 | O23: =SUM(K23:N23) -> 0 | Q23: 0 | R23: 0 | S23: =SUM(O23:R23) -> 0
D24: Other (insert description) | E24: 0 | F24: 0 | G24: 0 | H24: 0 | I24: 0 | J24: 0 | K24: =SUM(E24:J24) -> 0 | M24: 0 | N24: 0 | O24: =SUM(K24:N24) -> 0 | Q24: 0 | R24: 0 | S24: =SUM(O24:R24) -> 0
D25: Other (insert description) | E25: 0 | F25: 0 | G25: 0 | H25: 0 | I25: 0 | J25: 0 | K25: =SUM(E25:J25) -> 0 | M25: 0 | N25: 0 | O25: =SUM(K25:N25) -> 0 | Q25: 0 | R25: 0 | S25: =SUM(O25:R25) -> 0
D26: Total | E26: =SUM(E11:E25) -> 4151467.9 | F26: =SUM(F11:F25) -> 4151467.9 | G26: =SUM(G11:G25) -> 3900721.7 | H26: =SUM(H11:H25) -> 3712662 | I26: =SUM(I11:I25) -> 0 | J26: =SUM(J11:J25) -> 0 | K26: =SUM(K10:K25) -> 17568720 | M26: =SUM(M11:M25) -> 0 | N26: =SUM(N11:N25) -> 0 | O26: =SUM(O11:O25) -> 15916320 | Q26: =SUM(Q11:Q25) -> 0 | R26: =SUM(R11:R25) -> 0 | S26: =SUM(S11:S25) -> 15916320
D28: *No charge up to $150k of monthly AWS public cloud consumption.
D29: **TBD to allow renegotiations with CSP's as consumption grows and pass additional savings onto the COV if possible.
D30: Note: AWS percentage discount that VITA shall receive will be contingent upon discount Unisys negotiates with AWS.

Sheet 6a - Migration Milestone Chrgs
C1: VA-180815-UC - FC20241025
B2: Milestone Charges
B3: ($)
H4: Milestone Charges - Paid at Completion | O4: Scenario 3: Milestone Charges - Paid over Term
C5: Critical Milestone | D5: Reference Document | E5: Completion Criteria Ref | F5: Completion Date | H5: Contract Year 1 | I5: Contract Year 2 | J5: Contract Year 3 | K5: Contract Year 4 | L5: Contract Year 5 | M5: Contract Year 6 | N5: Total | O5: Contract Year 1 | P5: Contract Year 2 | Q5: Contract Year 3 | R5: Contract Year 4 | S5: Contract Year 5 | T5: Contract Year 6 | U5: Total
C8: Primary Data Center Migration Milestones
C9: Initial Assessment | D9: Exh 2.4.2 tab Migration Milestones | E9: PDC-03 | F9: 43539 | H9: 300000 | N9: =SUM(H9:M9) -> 300000
C10: CESC Migration Strategy and Baseline Migration Plan | D10: Exh 2.4.2 tab Migration Milestones | E10: PDC-04 | F10: 43602 | H10: 200000 | N10: =SUM(H10:M10) -> 200000
C11: Base Migration Infrastructure Deployed | D11: Exh 2.4.2 tab Migration Milestones | E11: PDC-05 | F11: 44012 | I11: 600000 | N11: =SUM(H11:M11) -> 600000 | U11: 188195.21
C12: Migration Commencement Date | D12: Exh 2.4.2 tab Migration Milestones | E12: PDC-06 | F12: 44057
C13: 15% Workload Migrated | D13: Exh 2.4.2 tab Migration Milestones | E13: PDC-07 | F13: 44149 | I13: 626753.51 | N13: =SUM(H13:M13) -> 626753.51
C14: 30% Workload Migrated | D14: Exh 2.4.2 tab Migration Milestones | E14: PDC-08 | F14: 44149 | I14: 626753.51 | N14: =SUM(H14:M14) -> 626753.51 | U14: 188195.21
C15: 50% Workload Migrated | D15: Exh 2.4.2 tab Migration Milestones | E15: PDC-09 | F15: 44241 | J15: 626754 | N15: =SUM(H15:M15) -> 626754
C16: 70% Workload Migrated | D16: Exh 2.4.2 tab Migration Milestones | E16: PDC-10 | F16: 44330 | J16: 890201 | N16: =SUM(H16:M16) -> 890201
C17: 100% Workload Migrated | D17: Exh 2.4.2 tab Migration Milestones | E17: PDC-11 | F17: 44422 | J17: 300912 | N17: =SUM(H17:M17) -> 300912 | U17: 188195.21
C18: RESERVED | D18: Exh 2.4.2 tab Migration Milestones | E18: PDC-12 | N18: =SUM(H18:M18) -> 0 | U18: 188195.21
C19: RESERVED | D19: Exh 2.4.2 tab Migration Milestones | E19: PDC-13 | N19: =SUM(H19:M19) -> 0
C20: RESERVED | D20: Exh 2.4.2 tab Migration Milestones | E20: PDC-14 | N20: =SUM(H20:M20) -> 0
C21: Out of Building | D21: Exh 2.4.2 tab Migration Milestones | E21: PDC-15 | F21: 44514 | J21: 200000 | N21: =SUM(H21:M21) -> 200000
C22: Closing | D22: Exh 2.4.2 tab Migration Milestones | E22: PDC-16 | F22: 44544 | O22: =SUM(O7:O21) -> 0 | P22: =SUM(P7:P21) -> 0 | Q22: =SUM(Q7:Q21) -> 0 | R22: =SUM(R7:R21) -> 0 | S22: =SUM(S7:S21) -> 0 | T22: =SUM(T7:T21) -> 0 | U22: =SUM(U7:U21) -> 752780.83
C24: Total Migration Milestone Charges | H24: =SUM(H9:H21) -> 500000 | I24: =SUM(I9:I21) -> 1853507 | J24: =SUM(J9:J21) -> 2017867 | K24: =SUM(K9:K21) -> 0 | L24: =SUM(L9:L21) -> 0 | M24: =SUM(M9:M21) -> 0 | N24: =SUM(N9:N21) -> 4371374

Sheet 6b - Secondary DC Milestone chg
C1: VA-180815-UC - FC20241025
B2: Exhibit 6(b) Milestone Charges
B3: ($)
C4: 1.02
H5: Milestone Charges - Paid at Completion | O5: Scenario 3: Milestone Charges - Paid over Term
C6: Critical Milestone | D6: Reference Document | E6: Completion Criteria Ref | F6: Completion Date | H6: Contract Year 1 | I6: Contract Year 2 | J6: Contract Year 3 | K6: Contract Year 4 | L6: Contract Year 5 | M6: Contract Year 6 | N6: Total | O6: Contract Year 1 | P6: Contract Year 2 | Q6: Contract Year 3 | R6: Contract Year 4 | S6: Contract Year 5 | T6: Contract Year 6 | U6: Total
C9: Secondary Data Center Milestones
C10: Data Center Base Implementation | D10: Exh 2.4.3 tab Secondary DC Milestones | E10: SDC01 | F10: 44559 | K10: 467197 | N10: =SUM(H10:M10) -> 467197
C11: Network Core Functional | D11: Exh 2.4.3 tab Secondary DC Milestones | E11: SDC02 | F11: 44620 | K11: 1335795 | N11: =SUM(H11:M11) -> 1335795 | U11: 188195.21
C12: SAN Core Functional and SAN Storage is implemented. | D12: Exh 2.4.3 tab Secondary DC Milestones | E12: SDC03 | F12: 44648 | K12: 2085975 | N12: =SUM(H12:M12) -> 2085975
C13: All Private Cloud Operational | D13: Exh 2.4.3 tab Secondary DC Milestones | E13: SDC04 | F13: 44680 | K13: 1285850 | N13: =SUM(H13:M13) -> 1285850
C14: Secondary Data Center build and migration complete. | D14: Exh 2.4.3 tab Secondary DC Milestones | E14: SDC05 | F14: 44742 | K14: 1307384 | N14: =SUM(H14:M14) -> 1307384 | U14: 188195.21
C15: Exit Current DR Site in Manassas | D15: Exh 2.4.3 tab Secondary DC Milestones | E15: SDC06 | F15: 44773 | K15: 599540 | N15: =SUM(H15:M15) -> 599540
C17: Total Migration Milestone Charges | H17: =SUM(H10:H15) -> 0 | I17: =SUM(I10:I15) -> 0 | J17: =SUM(J10:J15) -> 0 | K17: =SUM(K10:K15) -> 7081741 | L17: =SUM(L10:L15) -> 0 | M17: =SUM(M10:M15) -> 0 | N17: =SUM(N10:N15) -> 7081741
C19: The migration milestone payments cover labor, project management and materials to provision required infrastructure to solution the new secondary data center as described in Exhibit 2.3.1, section 3.3.1. Assisting other STS to relocate or provision their solutions in the secondary data center is included but not the cost of other STS hardware, software, materials etc.

Sheet 6Rev- Milestone Charges
C1: VA-180815-UC - FC20241025
B2: Milestone Charges
B3: ($)
H5: Scenario 1: Milestone Charges - Paid at Completion | Q5: Scenario 2: Milestone Charges - Paid over Term (Note 3) | X5: Scenario 3: Milestone Charges - Paid over Term | AF5: Scenario 3: Milestone Charges - Paid in Two Payments
C6: Critical Milestone | D6: Reference Document | E6: Completion Criteria Ref | F6: Completion Date | H6: Year -1 (Note 1) | I6: Contract Year 1 | J6: Contract Year 2 | K6: Contract Year 3 | L6: Contract Year 4 | M6: Contract Year 5 | N6: Contract Year 6 | O6: Total | Q6: Contract Year 1 | R6: Contract Year 2 | S6: Contract Year 3 | T6: Contract Year 4 | U6: Contract Year 5 | V6: Contract Year 6 | W6: Total | X6: Contract Year 1 | Y6: Contract Year 2 | Z6: Contract Year 3 | AA6: Contract Year 4 | AB6: Contract Year 5 | AC6: Contract Year 6 | AD6: Total | AF6: Contract Year 1 | AG6: Contract Year 2 | AH6: Contract Year 3 | AI6: Contract Year 4 | AJ6: Contract Year 5 | AK6: Contract Year 6 | AL6: Total
C9: IMPLEMENTATION MILESTONES CHARGES
C10: Governance Established | D10: Exh 2.4.1 tab Implementation Milestones | E10: M-03 | F10: Effective Date + 2 weeks | H10: 1000000 | O10: =SUM(H10:N10) -> 1000000 | Q10: 186666.67 | R10: =Q10 -> 186666.67 | S10: =R10 -> 186666.67 | T10: =S10 -> 186666.67 | U10: =T10 -> 186666.67 | V10: =U10 -> 186666.67 | W10: =SUM(Q10:V10) -> 1120000 | X10: =(V10*1.12)/6 -> 34844.444 | Y10: =X10 -> 34844.444 | Z10: =Y10 -> 34844.444 | AA10: =Z10 -> 34844.444 | AB10: =AA10 -> 34844.444 | AC10: =AB10 -> 34844.444 | AD10: =SUM(X10:AC10) -> 209066.67 | AF10: 0 | AG10: 1000000 | AH10: 0 | AI10: 0 | AJ10: 0 | AK10: 0 | AL10: =SUM(AF10:AK10) -> 1000000
C11: Services Detailed Implementation Plan (CD 3.1) | D11: Exh 2.4.1 tab Implementation Milestones | E11: M-04 | F11: 43362 | H11: 1000000 | O11: =SUM(H11:N11) -> 1000000 | Q11: 186666.67 | R11: =Q11 -> 186666.67 | S11: =R11 -> 186666.67 | T11: =S11 -> 186666.67 | U11: =T11 -> 186666.67 | V11: =U11 -> 186666.67 | W11: =SUM(Q11:V11) -> 1120000 | X11: =(V11*1.12)/6 -> 34844.444 | Y11: =X11 -> 34844.444 | Z11: =Y11 -> 34844.444 | AA11: =Z11 -> 34844.444 | AB11: =AA11 -> 34844.444 | AC11: =AB11 -> 34844.444 | AD11: =SUM(X11:AC11) -> 209066.67 | AF11: 0 | AG11: 1000000 | AH11: 0 | AI11: 0 | AJ11: 0 | AK11: 0 | AL11: =SUM(AF11:AK11) -> 1000000
C12: SMM Initial Draft Complete (CD 3.3.1) | D12: Exh 2.4.1 tab Implementation Milestones | E12: M-05 | F12: 43388 | H12: 1000000 | O12: =SUM(H12:N12) -> 1000000 | Q12: 186666.67 | R12: =Q12 -> 186666.67 | S12: =R12 -> 186666.67 | T12: =S12 -> 186666.67 | U12: =T12 -> 186666.67 | V12: =U12 -> 186666.67 | W12: =SUM(Q12:V12) -> 1120000 | X12: =(V12*1.12)/6 -> 34844.444 | Y12: =X12 -> 34844.444 | Z12: =Y12 -> 34844.444 | AA12: =Z12 -> 34844.444 | AB12: =AA12 -> 34844.444 | AC12: =AB12 -> 34844.444 | AD12: =SUM(X12:AC12) -> 209066.67 | AF12: 0 | AG12: 1000000 | AH12: 0 | AI12: 0 | AJ12: 0 | AK12: 0 | AL12: =SUM(AF12:AK12) -> 1000000
C13: Technology Infrastructure Readiness for Commencement | D13: Exh 2.4.1 tab Implementation Milestones | E13: M-07 | F13: 43578 | H13: 1000000 | O13: =SUM(H13:N13) -> 1000000 | Q13: 186666.67 | R13: =Q13 -> 186666.67 | S13: =R13 -> 186666.67 | T13: =S13 -> 186666.67 | U13: =T13 -> 186666.67 | V13: =U13 -> 186666.67 | W13: =SUM(Q13:V13) -> 1120000 | X13: =(V13*1.12)/6 -> 34844.444 | Y13: =X13 -> 34844.444 | Z13: =Y13 -> 34844.444 | AA13: =Z13 -> 34844.444 | AB13: =AA13 -> 34844.444 | AC13: =AB13 -> 34844.444 | AD13: =SUM(X13:AC13) -> 209066.67 | AF13: 0 | AG13: 1000000 | AH13: 0 | AI13: 0 | AJ13: 0 | AK13: 0 | AL13: =SUM(AF13:AK13) -> 1000000
C14: Knowledge Transfer Completed | D14: Exh 2.4.1 tab Implementation Milestones | E14: M-08 | F14: Commencement - 1 month | H14: 750000 | O14: =SUM(H14:N14) -> 750000 | Q14: 140000 | R14: =Q14 -> 140000 | S14: =R14 -> 140000 | T14: =S14 -> 140000 | U14: =T14 -> 140000 | V14: =U14 -> 140000 | W14: =SUM(Q14:V14) -> 840000 | X14: =(V14*1.12)/6 -> 26133.333 | Y14: =X14 -> 26133.333 | Z14: =Y14 -> 26133.333 | AA14: =Z14 -> 26133.333 | AB14: =AA14 -> 26133.333 | AC14: =AB14 -> 26133.333 | AD14: =SUM(X14:AC14) -> 156800 | AF14: 0 | AG14: 750000 | AH14: 0 | AI14: 0 | AJ14: 0 | AK14: 0 | AL14: =SUM(AF14:AK14) -> 750000
C15: SMM Final Document (CD 3.3.2) | D15: Exh 2.4.1 tab Implementation Milestones | E15: M-09 | F15: 43525 | H15: 750000 | O15: =SUM(H15:N15) -> 750000 | Q15: 140000 | R15: =Q15 -> 140000 | S15: =R15 -> 140000 | T15: =S15 -> 140000 | U15: =T15 -> 140000 | V15: =U15 -> 140000 | W15: =SUM(Q15:V15) -> 840000 | X15: =(V15*1.12)/6 -> 26133.333 | Y15: =X15 -> 26133.333 | Z15: =Y15 -> 26133.333 | AA15: =Z15 -> 26133.333 | AB15: =AA15 -> 26133.333 | AC15: =AB15 -> 26133.333 | AD15: =SUM(X15:AC15) -> 156800 | AF15: 0 | AG15: 750000 | AH15: 0 | AI15: 0 | AJ15: 0 | AK15: 0 | AL15: =SUM(AF15:AK15) -> 750000
C16: Assumption of current legacy tools and reporting | D16: Exh 2.4.1 tab Implementation Milestones | E16: M-13a | F16: 43449 | H16: 375000 | O16: =SUM(H16:N16) -> 375000 | Q16: =W16/6 -> 70000 | R16: =Q16 -> 70000 | S16: =R16 -> 70000 | T16: =S16 -> 70000 | U16: =T16 -> 70000 | V16: =U16 -> 70000 | W16: 420000 | X16: =(V16*1.12)/6 -> 13066.667 | Y16: =X16 -> 13066.667 | Z16: =Y16 -> 13066.667 | AA16: =Z16 -> 13066.667 | AB16: =AA16 -> 13066.667 | AC16: =AB16 -> 13066.667 | AD16: =SUM(X16:AC16) -> 78400 | AF16: 0 | AG16: 375000 | AH16: 0 | AI16: 0 | AJ16: 0 | AK16: 0 | AL16: =SUM(AF16:AK16) -> 375000
C17: SMS Implementation (CD 3.9) and Service Performance & Reporting (CD 3.4) Completed | D17: Exh 2.4.1 tab Implementation Milestones | E17: M-13b | F17: 43578 | H17: 375000 | O17: =SUM(H17:N17) -> 375000 | Q17: =W17/6 -> 70000 | R17: =Q17 -> 70000 | S17: =R17 -> 70000 | T17: =S17 -> 70000 | U17: =T17 -> 70000 | V17: =U17 -> 70000 | W17: 420000 | X17: =(V17*1.12)/6 -> 13066.667 | Y17: =X17 -> 13066.667 | Z17: =Y17 -> 13066.667 | AA17: =Z17 -> 13066.667 | AB17: =AA17 -> 13066.667 | AC17: =AB17 -> 13066.667 | AD17: =SUM(X17:AC17) -> 78400 | AF17: 0 | AG17: 375000 | AH17: 0 | AI17: 0 | AJ17: 0 | AK17: 0 | AL17: =SUM(AF17:AK17) -> 375000
C18: Services Implementation Readiness Plan Complete (CD 3.2) | D18: Exh 2.4.1 tab Implementation Milestones | E18: M-16a | F18: 43449 | H18: 375000 | O18: =SUM(H18:N18) -> 375000 | Q18: =W18/6 -> 70000 | R18: =Q18 -> 70000 | S18: =R18 -> 70000 | T18: =S18 -> 70000 | U18: =T18 -> 70000 | V18: =U18 -> 70000 | W18: 420000 | X18: =(V18*1.12)/6 -> 13066.667 | Y18: =X18 -> 13066.667 | Z18: =Y18 -> 13066.667 | AA18: =Z18 -> 13066.667 | AB18: =AA18 -> 13066.667 | AC18: =AB18 -> 13066.667 | AD18: =SUM(X18:AC18) -> 78400 | AF18: 0 | AG18: 375000 | AH18: 0 | AI18: 0 | AJ18: 0 | AK18: 0 | AL18: =SUM(AF18:AK18) -> 375000
C19: Updated Services Implementation Readiness Plan Complete (CD 3.2) | D19: Exh 2.4.1 tab Implementation Milestones | E19: M-16b | F19: 43585 | H19: 375000 | O19: =SUM(H19:N19) -> 375000 | Q19: =W19/6 -> 70000 | R19: =Q19 -> 70000 | S19: =R19 -> 70000 | T19: =S19 -> 70000 | U19: =T19 -> 70000 | V19: =U19 -> 70000 | W19: 420000 | X19: =(V19*1.12)/6 -> 13066.667 | Y19: =X19 -> 13066.667 | Z19: =Y19 -> 13066.667 | AA19: =Z19 -> 13066.667 | AB19: =AA19 -> 13066.667 | AC19: =AB19 -> 13066.667 | AD19: =SUM(X19:AC19) -> 78400 | AF19: 0 | AG19: 375000 | AH19: 0 | AI19: 0 | AJ19: 0 | AK19: 0 | AL19: =SUM(AF19:AK19) -> 375000
C20: Commencement | D20: Exh 2.4.1 tab Implementation Milestones | E20: M-18a | F20: Commencement date | H20: 250000 | O20: =SUM(H20:N20) -> 250000 | Q20: =W20/6 -> 46666.667 | R20: =Q20 -> 46666.667 | S20: =R20 -> 46666.667 | T20: =S20 -> 46666.667 | U20: =T20 -> 46666.667 | V20: =U20 -> 46666.667 | W20: 280000 | X20: =(V20*1.12)/6 -> 8711.1111 | Y20: =X20 -> 8711.1111 | Z20: =Y20 -> 8711.1111 | AA20: =Z20 -> 8711.1111 | AB20: =AA20 -> 8711.1111 | AC20: =AB20 -> 8711.1111 | AD20: =SUM(X20:AC20) -> 52266.667 | AF20: 0 | AG20: 250000 | AH20: 0 | AI20: 0 | AJ20: 0 | AK20: 0 | AL20: =SUM(AF20:AK20) -> 250000
C21: Asset Integration Complete | D21: Exh 2.4.1 tab Implementation Milestones | E21: M-18c | F21: 44196 | H21: 250000 | O21: =SUM(H21:N21) -> 250000 | Q21: =W21/6 -> 46666.667 | R21: =Q21 -> 46666.667 | S21: =R21 -> 46666.667 | T21: =S21 -> 46666.667 | U21: =T21 -> 46666.667 | V21: =U21 -> 46666.667 | W21: 280000 | X21: =(V21*1.12)/6 -> 8711.1111 | Y21: =X21 -> 8711.1111 | Z21: =Y21 -> 8711.1111 | AA21: =Z21 -> 8711.1111 | AB21: =AA21 -> 8711.1111 | AC21: =AB21 -> 8711.1111 | AD21: =SUM(X21:AC21) -> 52266.667 | AF21: 0 | AG21: 250000 | AH21: 0 | AI21: 0 | AJ21: 0 | AK21: 0 | AL21: =SUM(AF21:AK21) -> 250000
C22: Enhanced Automation and Reports Completed | D22: Exh 2.4.1 tab Implementation Milestones | E22: M-21 | F22: 43578 | I22: 166000 | O22: =SUM(H22:N22) -> 166000 | Q22: 30986.667 | R22: =Q22 -> 30986.667 | S22: =R22 -> 30986.667 | T22: =S22 -> 30986.667 | U22: =T22 -> 30986.667 | V22: =U22 -> 30986.667 | W22: =SUM(Q22:V22) -> 185920 | X22: =(V22*1.12)/6 -> 5784.1778 | Y22: =X22 -> 5784.1778 | Z22: =Y22 -> 5784.1778 | AA22: =Z22 -> 5784.1778 | AB22: =AA22 -> 5784.1778 | AC22: =AB22 -> 5784.1778 | AD22: =SUM(X22:AC22) -> 34705.067 | AF22: 0 | AG22: 166000 | AH22: 0 | AI22: 0 | AJ22: 0 | AK22: 0 | AL22: =SUM(AF22:AK22) -> 166000
C23: Initial Technology Plan (CD 3.6) | D23: Exh 2.4.1 tab Implementation Milestones | E23: M-23 | F23: 43570 | I23: 166000 | O23: =SUM(H23:N23) -> 166000 | Q23: 30986.667 | R23: =Q23 -> 30986.667 | S23: =R23 -> 30986.667 | T23: =S23 -> 30986.667 | U23: =T23 -> 30986.667 | V23: =U23 -> 30986.667 | W23: =SUM(Q23:V23) -> 185920 | X23: =(V23*1.12)/6 -> 5784.1778 | Y23: =X23 -> 5784.1778 | Z23: =Y23 -> 5784.1778 | AA23: =Z23 -> 5784.1778 | AB23: =AA23 -> 5784.1778 | AC23: =AB23 -> 5784.1778 | AD23: =SUM(X23:AC23) -> 34705.067 | AF23: 0 | AG23: 166000 | AH23: 0 | AI23: 0 | AJ23: 0 | AK23: 0 | AL23: =SUM(AF23:AK23) -> 166000
C24: Prioritized Remediation (based on the Initial Technology Plan) Completed | D24: Exh 2.4.1 tab Implementation Milestones | E24: M-24 | F24: 43602 | I24: 166000 | O24: =SUM(H24:N24) -> 166000 | Q24: 30986.667 | R24: =Q24 -> 30986.667 | S24: =R24 -> 30986.667 | T24: =S24 -> 30986.667 | U24: =T24 -> 30986.667 | V24: =U24 -> 30986.667 | W24: =SUM(Q24:V24) -> 185920 | X24: =(V24*1.12)/6 -> 5784.1778 | Y24: =X24 -> 5784.1778 | Z24: =Y24 -> 5784.1778 | AA24: =Z24 -> 5784.1778 | AB24: =AA24 -> 5784.1778 | AC24: =AB24 -> 5784.1778 | AD24: =SUM(X24:AC24) -> 34705.067 | AF24: 0 | AG24: 166000 | AH24: 0 | AI24: 0 | AJ24: 0 | AK24: 0 | AL24: =SUM(AF24:AK24) -> 166000
C29: Total Implementation Milestone Charges | H29: =SUM(H10:H26) -> 7500000 | I29: =SUM(I10:I26) -> 498000 | J29: =SUM(J10:J26) -> 0 | K29: =SUM(K10:K26) -> 0 | L29: =SUM(L10:L26) -> 0 | M29: =SUM(M10:M26) -> 0 | N29: =SUM(N10:N26) -> 0 | O29: =SUM(O10:O26) -> 7998000 | Q29: =SUM(Q10:Q25) -> 1492960 | R29: =SUM(R10:R25) -> 1492960 | S29: =SUM(S10:S25) -> 1492960 | T29: =SUM(T10:T25) -> 1492960 | U29: =SUM(U10:U25) -> 1492960 | V29: =SUM(V10:V25) -> 1492960 | W29: =SUM(W10:W25) -> 8957760 | X29: =#REF! -> #REF! | Y29: =#REF! -> #REF! | Z29: =#REF! -> #REF! | AA29: =#REF! -> #REF! | AB29: =#REF! -> #REF! | AC29: =#REF! -> #REF! | AD29: =#REF! -> #REF! | AF29: =SUM(AF10:AF25) -> 0 | AG29: =SUM(AG10:AG25) -> 7998000 | AH29: =SUM(AH10:AH25) -> 0 | AI29: =SUM(AI10:AI25) -> 0 | AJ29: =SUM(AJ10:AJ25) -> 0 | AK29: =SUM(AK10:AK25) -> 0 | AL29: =SUM(AL10:AL25) -> 7998000
C32: Notes:
C33: 1) Year -1 means the time after signature and prior to Commencement Date
C34: 2) Under Scenario 2, the yearly amounts are estimates; the Total Milestone Charges will be evenly divided among the remaining months of the Term
C35: 3) Original lump sum payment will be $7,748,000. Upon acceptance of M18c, the final payment will be $250,000.

Sheet 7 - Supplier Investments
B1: VA-180815-UC - FC20241025
B2: Supplier Investments (Annual Amounts in $)
K3: Renewal Option 1 | N3: Renewal Option 2
B4: 1.02 | D4: Contract Year 1 | E4: Contract Year 2 | F4: Contract Year 3 | G4: Contract Year 4 | H4: Contract Year 5 | I4: Contract Year 6 | J4: 6 Year Total | K4: Contract Year 7 | L4: Contract Year 8 | M4: 8 Year Total | N4: Contract Year 9 | O4: Contract Year 10 | P4: 10 Year Total
C6: Server & Storage
C7: Supplier Investments
C8: Hardware - Infrastructure | D8: 0 | E8: 0 | F8: 0 | G8: 0 | H8: 0 | I8: 0 | J8: =SUM(D8:I8) -> 0 | M8: =J8+K8+L8 -> 0 | P8: =M8+N8+O8 -> 0
C9: Hardware - Non-Infrastructure | D9: 12612707 | E9: 3993730 | F9: 6472208.3 | G9: 1590994.1 | H9: 1409915.9 | I9: 1409915.9 | J9: =SUM(D9:I9) -> 27489472 | M9: =J9+K9+L9 -> 27489472 | P9: =M9+N9+O9 -> 27489472
C10: Sofware | D10: 7484501.7 | E10: 3884986.9 | F10: 0 | G10: 0 | H10: 0 | I10: 0 | J10: =SUM(D10:I10) -> 11369489 | M10: =J10+K10+L10 -> 11369489 | P10: =M10+N10+O10 -> 11369489
C11: Other | D11: 0 | E11: 0 | F11: 0 | G11: 0 | H11: 0 | I11: 0 | J11: =SUM(D11:I11) -> 0 | M11: =J11+K11+L11 -> 0 | P11: =M11+N11+O11 -> 0
C12: Total | D12: 20097209 | E12: 7878716.9 | F12: 6472208.3 | G12: 1590994.1 | H12: 1409915.9 | I12: 1409915.9 | J12: =SUM(J8:J11) -> 38858960 | K12: =SUM(K8:K11) -> 0 | L12: =SUM(L8:L11) -> 0 | M12: =SUM(M8:M11) -> 38858960 | N12: =SUM(N8:N11) -> 0 | O12: =SUM(O8:O11) -> 0 | P12: =SUM(P8:P11) -> 38858960
C14: Data Center Management
C15: Supplier Investments
C16: Hardware - Infrastructure | D16: 0 | E16: 0 | F16: 0 | G16: 0 | H16: 0 | I16: 0 | J16: =SUM(D16:I16) -> 0 | M16: =J16+K16+L16 -> 0 | P16: =M16+N16+O16 -> 0
C17: Hardware - Non-Infrastructure | D17: 0 | E17: 0 | F17: 0 | G17: 0 | H17: 0 | I17: 0 | J17: =SUM(D17:I17) -> 0 | M17: =J17+K17+L17 -> 0 | P17: =M17+N17+O17 -> 0
C18: Sofware | D18: 0 | E18: 0 | F18: 0 | G18: 0 | H18: 0 | I18: 0 | J18: =SUM(D18:I18) -> 0 | M18: =J18+K18+L18 -> 0 | P18: =M18+N18+O18 -> 0
C19: Other | D19: 0 | E19: 0 | F19: 0 | G19: 0 | H19: 0 | I19: 0 | J19: =SUM(D19:I19) -> 0 | M19: =J19+K19+L19 -> 0 | P19: =M19+N19+O19 -> 0
C20: Total | D20: 0 | E20: 0 | F20: 0 | G20: 0 | H20: 0 | I20: 0 | J20: =SUM(J16:J19) -> 0 | K20: =SUM(K16:K19) -> 0 | L20: =SUM(L16:L19) -> 0 | M20: =SUM(M16:M19) -> 0 | N20: =SUM(N16:N19) -> 0 | O20: =SUM(O16:O19) -> 0 | P20: =SUM(P16:P19) -> 0
C22: Data Center LAN
C23: Supplier Investments
C24: Hardware - Infrastructure | D24: 0 | E24: 0 | F24: 0 | G24: 0 | H24: 0 | I24: 0 | J24: =SUM(D24:I24) -> 0 | M24: =J24+K24+L24 -> 0 | P24: =M24+N24+O24 -> 0
C25: Hardware - Non-Infrastructure | D25: 662347.53 | E25: 352941.18 | I25: 1287860.6 | J25: =SUM(D25:I25) -> 2303149.3 | M25: =J25+K25+L25 -> 2303149.3 | P25: =M25+N25+O25 -> 2303149.3
