Workbook

Sheet Title Page
C4: VA-151028-MCI: Modification 005-O June 15, 2024 | N4: Exhibit 4.1: Pricing and Volumes Matrix
C14: Exhibit 4.1 Pricing and Volumes Matrix VA-151028-MCI: Modification 5
C25: COMMONWEALTH OF VIRGINIA VIRGINIA IT AGENCY (VITA) SUPPLIER STRATEGY AND PERFORMANCE DIVISION 7325 BEAUFONT SPRINGS DR. RICHMOND, VA 23225

Sheet Supplier Instructions
B2: Supplier Instructions
B4: VA-151028-MCI: Modification 005-O June 15, 2024
B5: Pricing Instructions - Inflation
B6: The Supplier's pricing should exclude inflation. Only real increases/decreases should be included in the Supplier's Monthly Unit Rates rates. Inflation will be addressed in the Contract via Economic Change Adjustments (ECA).
B9: Tab Descriptions
B10: Total Estimated Charges
B11: This form is to be used to specify the detailed Charges to VITA, at the estimated current consumption, for the Resource Units proposed by Supplier.
B13: Charges by Cost Type
B14: The Supplier should use this tab to provide the cost break-down of the Charges, by expense type (e.g. Labor, Hardware, Software, etc.). These amounts are for informational purposes only and will help the Commonwealth understand the Supplier solution.
B16: Monthly Unit Rates
B17: Supplier must specify the Monthly Unit Rates for the Resource Units proposed by Supplier.
B19: Estimated Volumes
... B41: Supplier should use this form to provide a list of available Resource Types for FTE Services and the applicable hourly rates, inclusive of travel. These Resource Types will be available for Solution Services (projects) in accordance with Section 4 of Exhibit 4.0 (Pricing and Financial Provisions).

Sheet 1 - Charges Summary
B2: Summary of Charges ($)
B4: VA-151028-MCI: Modification 005-O June 15, 2024
L5: Renewal Option 1 | N5: Renewal Option 2
B6: Charge Description | E6: Year 1 * | F6: Year 2 | G6: Year 3 | H6: Year 4 | I6: Year 5 | J6: Year 5.5 | K6: 5.5 Years Total | L6: Year 1 | M6: Year 2 | N6: Year 1 | O6: Year 2 | P6: 9.5 Years Total
B7: Server Services
D9: Annual Charges | E9: ='2 - Estimated Annual Charges'!F681 -> #REF! | F9: ='2 - Estimated Annual Charges'!G681 -> #REF! | G9: ='2 - Estimated Annual Charges'!H681 -> #REF! | H9: ='2 - Estimated Annual Charges'!I681 -> #REF! | I9: ='2 - Estimated Annual Charges'!J681 -> #REF! | J9: ='2 - Estimated Annual Charges'!K681 -> #REF! | K9: =SUM(E9:J9) -> #REF! | L9: ='2 - Estimated Annual Charges'!N681 -> #REF! | M9: ='2 - Estimated Annual Charges'!O681 -> #REF! | N9: ='2 - Estimated Annual Charges'!R681 -> #REF! | O9: ='2 - Estimated Annual Charges'!S681 -> #REF! | P9: =SUM(K9:O9) -> #REF!
D11: Transition Charges (*) | E11: ='6 - Milestone Charges'!P44 -> 0 | F11: ='6 - Milestone Charges'!Q44 -> 2380206.4 | G11: ='6 - Milestone Charges'!R44 -> 2380206.4 | H11: ='6 - Milestone Charges'!S44 -> 2380206.4 | I11: ='6 - Milestone Charges'!T44 -> 2380206.4 | J11: ='6 - Milestone Charges'!U44 -> 0 | K11: =SUM(E11:J11) -> 9520825.6 | L11: 0 | M11: 0 | N11: 0 | O11: 0 | P11: =SUM(K11:O11) -> 9520825.6
B13: TOTAL VDN SERVICES | E13: =SUM(E9:E11) -> #REF! | F13: =SUM(F9:F11) -> #REF! | G13: =SUM(G9:G11) -> #REF! | H13: =SUM(H9:H11) -> #REF! | I13: =SUM(I9:I11) -> #REF! | J13: =SUM(J9:J11) -> #REF! | K13: =SUM(E13:J13) -> #REF! | L13: =SUM(L9:L11) -> #REF! | M13: =SUM(M9:M11) -> #REF! | N13: =SUM(N9:N11) -> #REF! | O13: =SUM(O9:O11) -> #REF! | P13: =SUM(K13:O13) -> #REF!
B16: (*) Reflects Option 2 for Transition Charges

Sheet 2 - Estimated Annual Charges
B2: Estimated Annual Charges (Annual Amounts in $)
B4: VA-151028-MCI: Modification 005-O June 15, 2024
N5: Renewal Option 1 | R5: Renewal Option 2
B6: Resource Description | F6: Contract Year 1 | G6: Contract Year 2 | H6: Contract Year 3 | I6: Contract Year 4 | J6: Contract Year 5 | K6: Contract Year 6 | L6: 5.5 Years Total | N6: Year 1 | O6: Year 2 | P6: Total | R6: Year 1 | S6: Year 2 | T6: Total | V6: Check
B7: Cross Functional Charges
A8: 2.1 | C8: Cross Functional Charges
A9: 2.1.1 | D9: Program Management Office | F9: =('3 - Monthly Unit Rates'!F9*'4 - Estimated Volumes'!F9)*12 -> 7991897.8 | G9: =('3 - Monthly Unit Rates'!G9*'4 - Estimated Volumes'!G9)*12 -> 7991897.8 | H9: =('3 - Monthly Unit Rates'!H9*'4 - Estimated Volumes'!H9)*12 -> 7259307.2 | I9: =('3 - Monthly Unit Rates'!I9*'4 - Estimated Volumes'!I9)*12 -> 6992910.6 | J9: =('3 - Monthly Unit Rates'!J9*'4 - Estimated Volumes'!J9)*12 -> 6926311.5 | K9: =('3 - Monthly Unit Rates'!K9*'4 - Estimated Volumes'!K9)*6 -> 3463155.7 | L9: =SUM(F9:K9) -> 40625481 | N9: =('3 - Monthly Unit Rates'!N9*'4 - Estimated Volumes'!N9)*12 -> 5727526.8 | O9: =('3 - Monthly Unit Rates'!O9*'4 - Estimated Volumes'!O9)*12 -> 5727526.8 | P9: =N9+O9 -> 11455054 | R9: =('3 - Monthly Unit Rates'!R9*'4 - Estimated Volumes'!R9)*12 -> 5660927.6 | S9: =('3 - Monthly Unit Rates'!S9*'4 - Estimated Volumes'!S9)*12 -> 5660927.6 | T9: =R9+S9 -> 11321855 | V9: =T9+P9+L9 -> 63402389
A10: 2.1.2 | D10: Cross Functional (inc. Triage Desk) | F10: =('3 - Monthly Unit Rates'!F10*'4 - Estimated Volumes'!F10)*12 -> 3059006.4 | G10: =('3 - Monthly Unit Rates'!G10*'4 - Estimated Volumes'!G10)*12 -> 3059006.4 | H10: =('3 - Monthly Unit Rates'!H10*'4 - Estimated Volumes'!H10)*12 -> 2778597.5 | I10: =('3 - Monthly Unit Rates'!I10*'4 - Estimated Volumes'!I10)*12 -> 2676630.6 | J10: =('3 - Monthly Unit Rates'!J10*'4 - Estimated Volumes'!J10)*12 -> 2651138.9 | K10: =('3 - Monthly Unit Rates'!K10*'4 - Estimated Volumes'!K10)*6 -> 1325569.4 | L10: =SUM(F10:K10) -> 15549949 | N10: =('3 - Monthly Unit Rates'!N10*'4 - Estimated Volumes'!N10)*12 -> 2192287.9 | O10: =('3 - Monthly Unit Rates'!O10*'4 - Estimated Volumes'!O10)*12 -> 2192287.9 | P10: =N10+O10 -> 4384575.8 | R10: =('3 - Monthly Unit Rates'!R10*'4 - Estimated Volumes'!R10)*12 -> 2166796.2 | S10: =('3 - Monthly Unit Rates'!S10*'4 - Estimated Volumes'!S10)*12 -> 2166796.2 | T10: =R10+S10 -> 4333592.4 | V10: =T10+P10+L10 -> 24268117
A11: 2.1.3 | D11: Engineering Services | F11: =('3 - Monthly Unit Rates'!F11*'4 - Estimated Volumes'!F11)*12 -> 3774160.6 | G11: =('3 - Monthly Unit Rates'!G11*'4 - Estimated Volumes'!G11)*12 -> 3774160.6 | H11: =('3 - Monthly Unit Rates'!H11*'4 - Estimated Volumes'!H11)*12 -> 3428195.9 | I11: =('3 - Monthly Unit Rates'!I11*'4 - Estimated Volumes'!I11)*12 -> 3302390.5 | J11: =('3 - Monthly Unit Rates'!J11*'4 - Estimated Volumes'!J11)*12 -> 3270939.2 | K11: =('3 - Monthly Unit Rates'!K11*'4 - Estimated Volumes'!K11)*6 -> 1635469.6 | L11: =SUM(F11:K11) -> 19185316 | N11: =('3 - Monthly Unit Rates'!N11*'4 - Estimated Volumes'!N11)*12 -> 2704815.1 | O11: =('3 - Monthly Unit Rates'!O11*'4 - Estimated Volumes'!O11)*12 -> 2704815.1 | P11: =N11+O11 -> 5409630.2 | R11: =('3 - Monthly Unit Rates'!R11*'4 - Estimated Volumes'!R11)*12 -> 2673363.7 | S11: =('3 - Monthly Unit Rates'!S11*'4 - Estimated Volumes'!S11)*12 -> 2673363.7 | T11: =R11+S11 -> 5346727.5 | V11: =T11+P11+L11 -> 29941674
C12: Cross Functional Charges | F12: =SUM(F9:F11) -> 14825065 | G12: =SUM(G9:G11) -> 14825065 | H12: =SUM(H9:H11) -> 13466101 | I12: =SUM(I9:I11) -> 12971932 | J12: =SUM(J9:J11) -> 12848390 | K12: =SUM(K9:K11) -> 6424194.8 | L12: =SUM(L9:L11) -> 75360746 | N12: =SUM(N9:N11) -> 10624630 | O12: =SUM(O9:O11) -> 10624630 | P12: =SUM(P9:P11) -> 21249260 | R12: =SUM(R9:R11) -> 10501088 | S12: =SUM(S9:S11) -> 10501088 | T12: =SUM(T9:T11) -> 21002175
A18: 2.2 | B18: CPE
A19: 2.2.1 | C19: CPE Use
D20: Managed WAN CPE
D21: Router –1 WAN, Ethernet - 1x10/100Mb WAN ports | E21: Per Device | F21: ='3 - Monthly Unit Rates'!F22*('4 - Estimated Volumes'!F21*12) -> 0 | G21: ='3 - Monthly Unit Rates'!G22*('4 - Estimated Volumes'!G21*12) -> 0 | H21: ='3 - Monthly Unit Rates'!H22*('4 - Estimated Volumes'!H21*12) -> 0 | I21: ='3 - Monthly Unit Rates'!I22*('4 - Estimated Volumes'!I21*12) -> 0 | J21: ='3 - Monthly Unit Rates'!J22*('4 - Estimated Volumes'!J21*12) -> 0 | K21: ='3 - Monthly Unit Rates'!K22*('4 - Estimated Volumes'!K21*12) -> 0 | L21: =SUM(F21:K21) -> 0 | N21: ='3 - Monthly Unit Rates'!N22*('4 - Estimated Volumes'!N21*12) -> 0 | O21: ='3 - Monthly Unit Rates'!O22*('4 - Estimated Volumes'!O21*12) -> 0 | P21: =N21+O21 -> 0 | R21: 0 | S21: 0 | T21: =R21+S21 -> 0
D22: Router - 2 WAN, 1xT1 | E22: Per Device | F22: ='3 - Monthly Unit Rates'!F23*('4 - Estimated Volumes'!F23*12) -> 0 | G22: ='3 - Monthly Unit Rates'!G23*('4 - Estimated Volumes'!G23*12) -> 0 | H22: ='3 - Monthly Unit Rates'!H23*('4 - Estimated Volumes'!H23*12) -> 0 | I22: ='3 - Monthly Unit Rates'!I23*('4 - Estimated Volumes'!I23*12) -> 0 | J22: ='3 - Monthly Unit Rates'!J23*('4 - Estimated Volumes'!J23*12) -> 0 | K22: =('3 - Monthly Unit Rates'!K23*'4 - Estimated Volumes'!K23)*6 -> 0 | L22: =SUM(F22:K22) -> 0 | N22: ='3 - Monthly Unit Rates'!N23*('4 - Estimated Volumes'!N23*12) -> 0 | O22: ='3 - Monthly Unit Rates'!O23*('4 - Estimated Volumes'!O23*12) -> 0 | P22: =N22+O22 -> 0 | R22: ='3 - Monthly Unit Rates'!R23*('4 - Estimated Volumes'!R23*12) -> 0 | S22: ='3 - Monthly Unit Rates'!S23*('4 - Estimated Volumes'!S23*12) -> 0 | T22: =R22+S22 -> 0
D23: Router - 2 WAN, 2xT1 | E23: Per Device | F23: ='3 - Monthly Unit Rates'!F23*('4 - Estimated Volumes'!F23*12) -> 0 | G23: ='3 - Monthly Unit Rates'!G23*('4 - Estimated Volumes'!G23*12) -> 0 | H23: ='3 - Monthly Unit Rates'!H23*('4 - Estimated Volumes'!H23*12) -> 0 | I23: ='3 - Monthly Unit Rates'!I23*('4 - Estimated Volumes'!I23*12) -> 0 | J23: ='3 - Monthly Unit Rates'!J23*('4 - Estimated Volumes'!J23*12) -> 0 | K23: =('3 - Monthly Unit Rates'!K23*'4 - Estimated Volumes'!K23)*6 -> 0 | L23: =SUM(F23:K23) -> 0 | N23: ='3 - Monthly Unit Rates'!N23*('4 - Estimated Volumes'!N23*12) -> 0 | O23: ='3 - Monthly Unit Rates'!O23*('4 - Estimated Volumes'!O23*12) -> 0 | P23: =N23+O23 -> 0 | R23: ='3 - Monthly Unit Rates'!R23*('4 - Estimated Volumes'!R23*12) -> 0 | S23: ='3 - Monthly Unit Rates'!S23*('4 - Estimated Volumes'!S23*12) -> 0 | T23: =R23+S23 -> 0
D24: Router - 2 WAN, 4xT1 | E24: Per Device | F24: ='3 - Monthly Unit Rates'!F24*('4 - Estimated Volumes'!F24*12) -> 1940836.6 | G24: ='3 - Monthly Unit Rates'!G24*('4 - Estimated Volumes'!G24*12) -> 1940836.6 | H24: ='3 - Monthly Unit Rates'!H24*('4 - Estimated Volumes'!H24*12) -> 1940836.6 | I24: ='3 - Monthly Unit Rates'!I24*('4 - Estimated Volumes'!I24*12) -> 1940836.6 | J24: ='3 - Monthly Unit Rates'!J24*('4 - Estimated Volumes'!J24*12) -> 1940836.6 | K24: =('3 - Monthly Unit Rates'!K24*'4 - Estimated Volumes'!K24)*6 -> 970418.28 | L24: =SUM(F24:K24) -> 10674601 | N24: ='3 - Monthly Unit Rates'!N24*('4 - Estimated Volumes'!N24*12) -> 1940836.6 | O24: ='3 - Monthly Unit Rates'!O24*('4 - Estimated Volumes'!O24*12) -> 1940836.6 | P24: =N24+O24 -> 3881673.1 | R24: ='3 - Monthly Unit Rates'!R24*('4 - Estimated Volumes'!R24*12) -> 1940836.6 | S24: ='3 - Monthly Unit Rates'!S24*('4 - Estimated Volumes'!S24*12) -> 1940836.6 | T24: =R24+S24 -> 3881673.1
D25: Router - 3 WAN, 1xDS3 | E25: Per Device | F25: ='3 - Monthly Unit Rates'!F25*('4 - Estimated Volumes'!F25*12) -> 191146.08 | G25: ='3 - Monthly Unit Rates'!G25*('4 - Estimated Volumes'!G25*12) -> 191146.08 | H25: ='3 - Monthly Unit Rates'!H25*('4 - Estimated Volumes'!H25*12) -> 191146.08 | I25: ='3 - Monthly Unit Rates'!I25*('4 - Estimated Volumes'!I25*12) -> 191146.08 | J25: ='3 - Monthly Unit Rates'!J25*('4 - Estimated Volumes'!J25*12) -> 191146.08 | K25: =('3 - Monthly Unit Rates'!K25*'4 - Estimated Volumes'!K25)*6 -> 95573.04 | L25: =SUM(F25:K25) -> 1051303.4 | N25: ='3 - Monthly Unit Rates'!N25*('4 - Estimated Volumes'!N25*12) -> 191146.08 | O25: ='3 - Monthly Unit Rates'!O25*('4 - Estimated Volumes'!O25*12) -> 191146.08 | P25: =N25+O25 -> 382292.16 | R25: ='3 - Monthly Unit Rates'!R25*('4 - Estimated Volumes'!R25*12) -> 191146.08 | S25: ='3 - Monthly Unit Rates'!S25*('4 - Estimated Volumes'!S25*12) -> 191146.08 | T25: =R25+S25 -> 382292.16
D26: Router - 2 WAN, 1xT1, IPSEC, LTE | E26: Per Device | F26: ='3 - Monthly Unit Rates'!F16*('4 - Estimated Volumes'!F16*12) -> 0 | G26: ='3 - Monthly Unit Rates'!G16*('4 - Estimated Volumes'!G16*12) -> 0 | H26: ='3 - Monthly Unit Rates'!H16*('4 - Estimated Volumes'!H16*12) -> 0 | I26: ='3 - Monthly Unit Rates'!I16*('4 - Estimated Volumes'!I16*12) -> 0 | J26: ='3 - Monthly Unit Rates'!J16*('4 - Estimated Volumes'!J16*12) -> 0 | K26: =('3 - Monthly Unit Rates'!K16*'4 - Estimated Volumes'!K16)*6 -> 0 | L26: =SUM(F26:K26) -> 0 | N26: ='3 - Monthly Unit Rates'!N16*('4 - Estimated Volumes'!N16*12) -> 0 | O26: ='3 - Monthly Unit Rates'!O16*('4 - Estimated Volumes'!O16*12) -> 0 | P26: =N26+O26 -> 0 | R26: ='3 - Monthly Unit Rates'!R16*('4 - Estimated Volumes'!R16*12) -> 0 | S26: ='3 - Monthly Unit Rates'!S16*('4 - Estimated Volumes'!S16*12) -> 0 | T26: =R26+S26 -> 0
D27: Router - 2 WAN, 2xT1, IPSEC, LTE | E27: Per Device | F27: ='3 - Monthly Unit Rates'!F17*('4 - Estimated Volumes'!F17*12) -> 0 | G27: ='3 - Monthly Unit Rates'!G17*('4 - Estimated Volumes'!G17*12) -> 0 | H27: ='3 - Monthly Unit Rates'!H17*('4 - Estimated Volumes'!H17*12) -> 0 | I27: ='3 - Monthly Unit Rates'!I17*('4 - Estimated Volumes'!I17*12) -> 0 | J27: ='3 - Monthly Unit Rates'!J17*('4 - Estimated Volumes'!J17*12) -> 0 | K27: =('3 - Monthly Unit Rates'!K17*'4 - Estimated Volumes'!K17)*6 -> 0 | L27: =SUM(F27:K27) -> 0 | N27: ='3 - Monthly Unit Rates'!N17*('4 - Estimated Volumes'!N17*12) -> 0 | O27: ='3 - Monthly Unit Rates'!O17*('4 - Estimated Volumes'!O17*12) -> 0 | P27: =N27+O27 -> 0 | R27: ='3 - Monthly Unit Rates'!R17*('4 - Estimated Volumes'!R17*12) -> 0 | S27: ='3 - Monthly Unit Rates'!S17*('4 - Estimated Volumes'!S17*12) -> 0 | T27: =R27+S27 -> 0
D28: Router - 2 WAN, 4xT1, IPSEC, LTE | E28: Per Device | F28: ='3 - Monthly Unit Rates'!F18*('4 - Estimated Volumes'!F18*12) -> 0 | G28: ='3 - Monthly Unit Rates'!G18*('4 - Estimated Volumes'!G18*12) -> 0 | H28: ='3 - Monthly Unit Rates'!H18*('4 - Estimated Volumes'!H18*12) -> 0 | I28: ='3 - Monthly Unit Rates'!I18*('4 - Estimated Volumes'!I18*12) -> 0 | J28: ='3 - Monthly Unit Rates'!J18*('4 - Estimated Volumes'!J18*12) -> 0 | K28: =('3 - Monthly Unit Rates'!K18*'4 - Estimated Volumes'!K18)*6 -> 0 | L28: =SUM(F28:K28) -> 0 | N28: ='3 - Monthly Unit Rates'!N18*('4 - Estimated Volumes'!N18*12) -> 0 | O28: ='3 - Monthly Unit Rates'!O18*('4 - Estimated Volumes'!O18*12) -> 0 | P28: =N28+O28 -> 0 | R28: ='3 - Monthly Unit Rates'!R18*('4 - Estimated Volumes'!R18*12) -> 0 | S28: ='3 - Monthly Unit Rates'!S18*('4 - Estimated Volumes'!S18*12) -> 0 | T28: =R28+S28 -> 0
D29: Router - 3 WAN, 1xDS3, IPSEC, LTE | E29: Per Device | F29: ='3 - Monthly Unit Rates'!F19*('4 - Estimated Volumes'!F19*12) -> 0 | G29: ='3 - Monthly Unit Rates'!G19*('4 - Estimated Volumes'!G19*12) -> 0 | H29: ='3 - Monthly Unit Rates'!H19*('4 - Estimated Volumes'!H19*12) -> 0 | I29: ='3 - Monthly Unit Rates'!I19*('4 - Estimated Volumes'!I19*12) -> 0 | J29: ='3 - Monthly Unit Rates'!J19*('4 - Estimated Volumes'!J19*12) -> 0 | K29: =('3 - Monthly Unit Rates'!K19*'4 - Estimated Volumes'!K19)*6 -> 0 | L29: =SUM(F29:K29) -> 0 | N29: ='3 - Monthly Unit Rates'!N19*('4 - Estimated Volumes'!N19*12) -> 0 | O29: ='3 - Monthly Unit Rates'!O19*('4 - Estimated Volumes'!O19*12) -> 0 | P29: =N29+O29 -> 0 | R29: ='3 - Monthly Unit Rates'!R19*('4 - Estimated Volumes'!R19*12) -> 0 | S29: ='3 - Monthly Unit Rates'!S19*('4 - Estimated Volumes'!S19*12) -> 0 | T29: =R29+S29 -> 0
D30: Router - 2 WAN, Ethernet Only | E30: Per Device | F30: ='3 - Monthly Unit Rates'!F20*('4 - Estimated Volumes'!F20*12) -> 0 | G30: ='3 - Monthly Unit Rates'!G20*('4 - Estimated Volumes'!G20*12) -> 0 | H30: ='3 - Monthly Unit Rates'!H20*('4 - Estimated Volumes'!H20*12) -> 0 | I30: ='3 - Monthly Unit Rates'!I20*('4 - Estimated Volumes'!I20*12) -> 0 | J30: ='3 - Monthly Unit Rates'!J20*('4 - Estimated Volumes'!J20*12) -> 0 | K30: =('3 - Monthly Unit Rates'!K20*'4 - Estimated Volumes'!K20)*6 -> 0 | L30: =SUM(F30:K30) -> 0 | N30: ='3 - Monthly Unit Rates'!N20*('4 - Estimated Volumes'!N20*12) -> 0 | O30: ='3 - Monthly Unit Rates'!O20*('4 - Estimated Volumes'!O20*12) -> 0 | P30: =N30+O30 -> 0 | R30: ='3 - Monthly Unit Rates'!R20*('4 - Estimated Volumes'!R20*12) -> 0 | S30: ='3 - Monthly Unit Rates'!S20*('4 - Estimated Volumes'!S20*12) -> 0 | T30: =R30+S30 -> 0
D31: Router - 2 WAN, Ethernet Only, IPSEC, LTE | E31: Per Device | F31: ='3 - Monthly Unit Rates'!F21*('4 - Estimated Volumes'!F31*12) -> 0 | G31: ='3 - Monthly Unit Rates'!G21*('4 - Estimated Volumes'!G31*12) -> 0 | H31: ='3 - Monthly Unit Rates'!H21*('4 - Estimated Volumes'!H31*12) -> 0 | I31: ='3 - Monthly Unit Rates'!I21*('4 - Estimated Volumes'!I31*12) -> 0 | J31: ='3 - Monthly Unit Rates'!J21*('4 - Estimated Volumes'!J31*12) -> 0 | K31: ='3 - Monthly Unit Rates'!K21*('4 - Estimated Volumes'!K31*12) -> 0 | L31: =SUM(F31:K31) -> 0 | N31: ='3 - Monthly Unit Rates'!N21*('4 - Estimated Volumes'!N31*12) -> 0 | O31: ='3 - Monthly Unit Rates'!O21*('4 - Estimated Volumes'!O31*12) -> 0 | P31: =N31+O31 -> 0 | R31: ='3 - Monthly Unit Rates'!R21*('4 - Estimated Volumes'!R21*12) -> 0 | S31: ='3 - Monthly Unit Rates'!S21*('4 - Estimated Volumes'!S21*12) -> 0 | T31: =R31+S31 -> 0
D32: Router - Cellular Wireless Router - Point of Use | E32: Per Device | F32: ='3 - Monthly Unit Rates'!F32*('4 - Estimated Volumes'!F32*12) -> 0 | G32: ='3 - Monthly Unit Rates'!G32*('4 - Estimated Volumes'!G32*12) -> 0 | H32: ='3 - Monthly Unit Rates'!H32*('4 - Estimated Volumes'!H32*12) -> 0 | I32: ='3 - Monthly Unit Rates'!I32*('4 - Estimated Volumes'!I32*12) -> 0 | J32: ='3 - Monthly Unit Rates'!J32*('4 - Estimated Volumes'!J32*12) -> 0 | K32: ='3 - Monthly Unit Rates'!K32*('4 - Estimated Volumes'!K32*6) -> 0 | L32: =SUM(F32:K32) -> 0 | N32: ='3 - Monthly Unit Rates'!N32*('4 - Estimated Volumes'!N32*12) -> 0 | O32: ='3 - Monthly Unit Rates'!O32*('4 - Estimated Volumes'!O32*12) -> 0 | P32: =N32+O32 -> 0 | R32: ='3 - Monthly Unit Rates'!R32*('4 - Estimated Volumes'!R32*12) -> 0 | S32: ='3 - Monthly Unit Rates'!S32*('4 - Estimated Volumes'!S32*12) -> 0 | T32: =R32+S32 -> 0
D33: Router - Cellular Wireless Router - Small Office | E33: Per Device | F33: ='3 - Monthly Unit Rates'!F33*('4 - Estimated Volumes'!F33*12) -> 0 | G33: ='3 - Monthly Unit Rates'!G33*('4 - Estimated Volumes'!G33*12) -> 0 | H33: ='3 - Monthly Unit Rates'!H33*('4 - Estimated Volumes'!H33*12) -> 0 | I33: ='3 - Monthly Unit Rates'!I33*('4 - Estimated Volumes'!I33*12) -> 0 | J33: ='3 - Monthly Unit Rates'!J33*('4 - Estimated Volumes'!J33*12) -> 0 | K33: ='3 - Monthly Unit Rates'!K33*('4 - Estimated Volumes'!K33*6) -> 0 | L33: =SUM(F33:K33) -> 0 | N33: ='3 - Monthly Unit Rates'!N33*('4 - Estimated Volumes'!N33*12) -> 0 | O33: ='3 - Monthly Unit Rates'!O33*('4 - Estimated Volumes'!O33*12) -> 0 | P33: =N33+O33 -> 0 | R33: ='3 - Monthly Unit Rates'!R33*('4 - Estimated Volumes'!R33*12) -> 0 | S33: ='3 - Monthly Unit Rates'!S33*('4 - Estimated Volumes'!S33*12) -> 0 | T33: =R33+S33 -> 0
D34: Router - Cellular Wireless Router - Branch Office | E34: Per Device | F34: ='3 - Monthly Unit Rates'!F34*('4 - Estimated Volumes'!F34*12) -> 0 | G34: ='3 - Monthly Unit Rates'!G34*('4 - Estimated Volumes'!G34*12) -> 0 | H34: ='3 - Monthly Unit Rates'!H34*('4 - Estimated Volumes'!H34*12) -> 0 | I34: ='3 - Monthly Unit Rates'!I34*('4 - Estimated Volumes'!I34*12) -> 0 | J34: ='3 - Monthly Unit Rates'!J34*('4 - Estimated Volumes'!J34*12) -> 0 | K34: ='3 - Monthly Unit Rates'!K34*('4 - Estimated Volumes'!K34*6) -> 0 | L34: =SUM(F34:K34) -> 0 | N34: ='3 - Monthly Unit Rates'!N34*('4 - Estimated Volumes'!N34*12) -> 0 | O34: ='3 - Monthly Unit Rates'!O34*('4 - Estimated Volumes'!O34*12) -> 0 | P34: =N34+O34 -> 0 | R34: ='3 - Monthly Unit Rates'!R34*('4 - Estimated Volumes'!R34*12) -> 0 | S34: ='3 - Monthly Unit Rates'!S34*('4 - Estimated Volumes'!S34*12) -> 0 | T34: =R34+S34 -> 0
D35: Router - Branch Office | E35: Per Device | F35: ='3 - Monthly Unit Rates'!F35*('4 - Estimated Volumes'!F34*12) -> 0 | G35: ='3 - Monthly Unit Rates'!G35*('4 - Estimated Volumes'!G34*12) -> 0 | H35: ='3 - Monthly Unit Rates'!H35*('4 - Estimated Volumes'!H34*12) -> 0 | I35: ='3 - Monthly Unit Rates'!I35*('4 - Estimated Volumes'!I34*12) -> 0 | J35: ='3 - Monthly Unit Rates'!J35*('4 - Estimated Volumes'!J34*12) -> 0 | K35: =('3 - Monthly Unit Rates'!K35*'4 - Estimated Volumes'!K34)*6 -> 0 | L35: =SUM(F35:K35) -> 0 | N35: ='3 - Monthly Unit Rates'!N35*('4 - Estimated Volumes'!N34*12) -> 0 | O35: ='3 - Monthly Unit Rates'!O35*('4 - Estimated Volumes'!O34*12) -> 0 | R35: ='3 - Monthly Unit Rates'!R35*('4 - Estimated Volumes'!R35*12) -> 0 | S35: ='3 - Monthly Unit Rates'!S35*('4 - Estimated Volumes'!S35*12) -> 0 | T35: =R35+S35 -> 0
D36: Router - Core Data Center | E36: Per Device | F36: ='3 - Monthly Unit Rates'!F36*('4 - Estimated Volumes'!F36*12) -> 1482765.8 | G36: ='3 - Monthly Unit Rates'!G36*('4 - Estimated Volumes'!G36*12) -> 1482765.8 | H36: ='3 - Monthly Unit Rates'!H36*('4 - Estimated Volumes'!H36*12) -> 1482765.8 | I36: ='3 - Monthly Unit Rates'!I36*('4 - Estimated Volumes'!I36*12) -> 1482765.8 | J36: ='3 - Monthly Unit Rates'!J36*('4 - Estimated Volumes'!J36*12) -> 1482765.8 | K36: =('3 - Monthly Unit Rates'!K36*'4 - Estimated Volumes'!K36)*6 -> 741382.92 | L36: =SUM(F36:K36) -> 8155212.1 | N36: ='3 - Monthly Unit Rates'!N36*('4 - Estimated Volumes'!N36*12) -> 1482765.8 | O36: ='3 - Monthly Unit Rates'!O36*('4 - Estimated Volumes'!O36*12) -> 1482765.8 | P36: =N36+O36 -> 2965531.7 | R36: ='3 - Monthly Unit Rates'!R36*('4 - Estimated Volumes'!R36*12) -> 1482765.8 | S36: ='3 - Monthly Unit Rates'!S36*('4 - Estimated Volumes'!S36*12) -> 1482765.8 | T36: =R36+S36 -> 2965531.7
D37: Router - Premium Core Data Center | E37: Per Device | F37: ='3 - Monthly Unit Rates'!F37*('4 - Estimated Volumes'!F38*12) -> 0 | G37: ='3 - Monthly Unit Rates'!G37*('4 - Estimated Volumes'!G38*12) -> 0 | H37: ='3 - Monthly Unit Rates'!H37*('4 - Estimated Volumes'!H38*12) -> 0 | I37: ='3 - Monthly Unit Rates'!I37*('4 - Estimated Volumes'!I38*12) -> 0 | J37: ='3 - Monthly Unit Rates'!J37*('4 - Estimated Volumes'!J38*12) -> 0 | K37: =('3 - Monthly Unit Rates'!K37*'4 - Estimated Volumes'!K38)*6 -> 0 | L37: =SUM(F37:K37) -> 0 | N37: ='3 - Monthly Unit Rates'!N37*('4 - Estimated Volumes'!N38*12) -> 0 | O37: ='3 - Monthly Unit Rates'!O37*('4 - Estimated Volumes'!O38*12) -> 0 | R37: ='3 - Monthly Unit Rates'!R37*('4 - Estimated Volumes'!R37*12) -> 0 | S37: ='3 - Monthly Unit Rates'!S37*('4 - Estimated Volumes'!S37*12) -> 0 | T37: =R37+S37 -> 0
D38: Managed LAN CPE
D39: Switch - 8 Port | E39: Per Device | F39: ='3 - Monthly Unit Rates'!F39*('4 - Estimated Volumes'!F39*12) -> 194622.6 | G39: ='3 - Monthly Unit Rates'!G39*('4 - Estimated Volumes'!G39*12) -> 194622.6 | H39: ='3 - Monthly Unit Rates'!H39*('4 - Estimated Volumes'!H39*12) -> 194622.6 | I39: ='3 - Monthly Unit Rates'!I39*('4 - Estimated Volumes'!I39*12) -> 194622.6 | J39: ='3 - Monthly Unit Rates'!J39*('4 - Estimated Volumes'!J39*12) -> 194622.6 | K39: =('3 - Monthly Unit Rates'!K39*'4 - Estimated Volumes'!K39)*6 -> 97311.3 | L39: =SUM(F39:K39) -> 1070424.3 | N39: ='3 - Monthly Unit Rates'!N39*('4 - Estimated Volumes'!N39*12) -> 194622.6 | O39: ='3 - Monthly Unit Rates'!O39*('4 - Estimated Volumes'!O39*12) -> 194622.6 | P39: =N39+O39 -> 389245.2 | R39: ='3 - Monthly Unit Rates'!R39*('4 - Estimated Volumes'!R39*12) -> 194622.6 | S39: ='3 - Monthly Unit Rates'!S39*('4 - Estimated Volumes'!S39*12) -> 194622.6 | T39: =R39+S39 -> 389245.2
D40: Switch - 8 Port POE | E40: Per Device | F40: ='3 - Monthly Unit Rates'!F40*('4 - Estimated Volumes'!F40*12) -> 0 | G40: ='3 - Monthly Unit Rates'!G40*('4 - Estimated Volumes'!G40*12) -> 0 | H40: ='3 - Monthly Unit Rates'!H40*('4 - Estimated Volumes'!H40*12) -> 0 | I40: ='3 - Monthly Unit Rates'!I40*('4 - Estimated Volumes'!I40*12) -> 0 | J40: ='3 - Monthly Unit Rates'!J40*('4 - Estimated Volumes'!J40*12) -> 0 | K40: =('3 - Monthly Unit Rates'!K40*'4 - Estimated Volumes'!K40)*6 -> 0 | L40: =SUM(F40:K40) -> 0 | N40: ='3 - Monthly Unit Rates'!N40*('4 - Estimated Volumes'!N40*12) -> 0 | O40: ='3 - Monthly Unit Rates'!O40*('4 - Estimated Volumes'!O40*12) -> 0 | P40: =N40+O40 -> 0 | R40: ='3 - Monthly Unit Rates'!R40*('4 - Estimated Volumes'!R40*12) -> 0 | S40: ='3 - Monthly Unit Rates'!S40*('4 - Estimated Volumes'!S40*12) -> 0 | T40: =R40+S40 -> 0
D41: Switch - 24 Port | E41: Per Device | F41: ='3 - Monthly Unit Rates'!F41*('4 - Estimated Volumes'!F41*12) -> 2036435 | G41: ='3 - Monthly Unit Rates'!G41*('4 - Estimated Volumes'!G41*12) -> 2036435 | H41: ='3 - Monthly Unit Rates'!H41*('4 - Estimated Volumes'!H41*12) -> 2036435 | I41: ='3 - Monthly Unit Rates'!I41*('4 - Estimated Volumes'!I41*12) -> 2036435 | J41: ='3 - Monthly Unit Rates'!J41*('4 - Estimated Volumes'!J41*12) -> 2036435 | K41: =('3 - Monthly Unit Rates'!K41*'4 - Estimated Volumes'!K41)*6 -> 1018217.5 | L41: =SUM(F41:K41) -> 11200393 | N41: ='3 - Monthly Unit Rates'!N41*('4 - Estimated Volumes'!N41*12) -> 2036435 | O41: ='3 - Monthly Unit Rates'!O41*('4 - Estimated Volumes'!O41*12) -> 2036435 | P41: =N41+O41 -> 4072870.1 | R41: ='3 - Monthly Unit Rates'!R41*('4 - Estimated Volumes'!R41*12) -> 2036435 | S41: ='3 - Monthly Unit Rates'!S41*('4 - Estimated Volumes'!S41*12) -> 2036435 | T41: =R41+S41 -> 4072870.1
D42: Switch - 48 Port | E42: Per Device | F42: ='3 - Monthly Unit Rates'!F42*('4 - Estimated Volumes'!F42*12) -> 2959156.8 | G42: ='3 - Monthly Unit Rates'!G42*('4 - Estimated Volumes'!G42*12) -> 2959156.8 | H42: ='3 - Monthly Unit Rates'!H42*('4 - Estimated Volumes'!H42*12) -> 2959156.8 | I42: ='3 - Monthly Unit Rates'!I42*('4 - Estimated Volumes'!I42*12) -> 2959156.8 | J42: ='3 - Monthly Unit Rates'!J42*('4 - Estimated Volumes'!J42*12) -> 2959156.8 | K42: =('3 - Monthly Unit Rates'!K42*'4 - Estimated Volumes'!K42)*6 -> 1479578.4 | L42: =SUM(F42:K42) -> 16275362 | N42: ='3 - Monthly Unit Rates'!N42*('4 - Estimated Volumes'!N42*12) -> 2959156.8 | O42: ='3 - Monthly Unit Rates'!O42*('4 - Estimated Volumes'!O42*12) -> 2959156.8 | P42: =N42+O42 -> 5918313.6 | R42: ='3 - Monthly Unit Rates'!R42*('4 - Estimated Volumes'!R42*12) -> 2959156.8 | S42: ='3 - Monthly Unit Rates'!S42*('4 - Estimated Volumes'!S42*12) -> 2959156.8 | T42: =R42+S42 -> 5918313.6
D43: Switch - 24 Port (POE) | E43: Per Device | F43: ='3 - Monthly Unit Rates'!F43*('4 - Estimated Volumes'!F43*12) -> 82643.52 | G43: ='3 - Monthly Unit Rates'!G43*('4 - Estimated Volumes'!G43*12) -> 82643.52 | H43: ='3 - Monthly Unit Rates'!H43*('4 - Estimated Volumes'!H43*12) -> 82643.52 | I43: ='3 - Monthly Unit Rates'!I43*('4 - Estimated Volumes'!I43*12) -> 82643.52 | J43: ='3 - Monthly Unit Rates'!J43*('4 - Estimated Volumes'!J43*12) -> 82643.52 | K43: =('3 - Monthly Unit Rates'!K43*'4 - Estimated Volumes'!K43)*6 -> 41321.76 | L43: =SUM(F43:K43) -> 454539.36 | N43: ='3 - Monthly Unit Rates'!N43*('4 - Estimated Volumes'!N43*12) -> 82643.52 | O43: ='3 - Monthly Unit Rates'!O43*('4 - Estimated Volumes'!O43*12) -> 82643.52 | P43: =N43+O43 -> 165287.04 | R43: ='3 - Monthly Unit Rates'!R43*('4 - Estimated Volumes'!R43*12) -> 82643.52 | S43: ='3 - Monthly Unit Rates'!S43*('4 - Estimated Volumes'!S43*12) -> 82643.52 | T43: =R43+S43 -> 165287.04
D44: Switch - 48 Port (POE) | E44: Per Device | F44: ='3 - Monthly Unit Rates'!F44*('4 - Estimated Volumes'!F44*12) -> 256566.96 | G44: ='3 - Monthly Unit Rates'!G44*('4 - Estimated Volumes'!G44*12) -> 256566.96 | H44: ='3 - Monthly Unit Rates'!H44*('4 - Estimated Volumes'!H44*12) -> 256566.96 | I44: ='3 - Monthly Unit Rates'!I44*('4 - Estimated Volumes'!I44*12) -> 256566.96 | J44: ='3 - Monthly Unit Rates'!J44*('4 - Estimated Volumes'!J44*12) -> 256566.96 | K44: =('3 - Monthly Unit Rates'!K44*'4 - Estimated Volumes'!K44)*6 -> 128283.48 | L44: =SUM(F44:K44) -> 1411118.3 | N44: ='3 - Monthly Unit Rates'!N44*('4 - Estimated Volumes'!N44*12) -> 256566.96 | O44: ='3 - Monthly Unit Rates'!O44*('4 - Estimated Volumes'!O44*12) -> 256566.96 | P44: =N44+O44 -> 513133.92 | R44: ='3 - Monthly Unit Rates'!R44*('4 - Estimated Volumes'!R44*12) -> 256566.96 | S44: ='3 - Monthly Unit Rates'!S44*('4 - Estimated Volumes'!S44*12) -> 256566.96 | T44: =R44+S44 -> 513133.92
D45: Switch Aggregation - 48 Port | E45: Per Device | F45: ='3 - Monthly Unit Rates'!F45*('4 - Estimated Volumes'!F45*12) -> 0 | G45: ='3 - Monthly Unit Rates'!G45*('4 - Estimated Volumes'!G45*12) -> 0 | H45: ='3 - Monthly Unit Rates'!H45*('4 - Estimated Volumes'!H45*12) -> 0 | I45: ='3 - Monthly Unit Rates'!I45*('4 - Estimated Volumes'!I45*12) -> 0 | J45: ='3 - Monthly Unit Rates'!J45*('4 - Estimated Volumes'!J45*12) -> 0 | K45: =('3 - Monthly Unit Rates'!K45*'4 - Estimated Volumes'!K45)*6 -> 0 | L45: =SUM(F45:K45) -> 0 | N45: ='3 - Monthly Unit Rates'!N45*('4 - Estimated Volumes'!N45*12) -> 0 | O45: ='3 - Monthly Unit Rates'!O45*('4 - Estimated Volumes'!O45*12) -> 0 | P45: =N45+O45 -> 0 | R45: ='3 - Monthly Unit Rates'!R45*('4 - Estimated Volumes'!R45*12) -> 0 | S45: ='3 - Monthly Unit Rates'!S45*('4 - Estimated Volumes'!S45*12) -> 0 | T45: =R45+S45 -> 0
D46: Switch Core - 192 Port | E46: Per Device | F46: ='3 - Monthly Unit Rates'!F46*('4 - Estimated Volumes'!F46*12) -> 974762.76 | G46: ='3 - Monthly Unit Rates'!G46*('4 - Estimated Volumes'!G46*12) -> 974762.76 | H46: ='3 - Monthly Unit Rates'!H46*('4 - Estimated Volumes'!H46*12) -> 974762.76 | I46: ='3 - Monthly Unit Rates'!I46*('4 - Estimated Volumes'!I46*12) -> 974762.76 | J46: ='3 - Monthly Unit Rates'!J46*('4 - Estimated Volumes'!J46*12) -> 974762.76 | K46: =('3 - Monthly Unit Rates'!K46*'4 - Estimated Volumes'!K46)*6 -> 487381.38 | L46: =SUM(F46:K46) -> 5361195.2 | N46: ='3 - Monthly Unit Rates'!N46*('4 - Estimated Volumes'!N46*12) -> 974762.76 | O46: ='3 - Monthly Unit Rates'!O46*('4 - Estimated Volumes'!O46*12) -> 974762.76 | P46: =N46+O46 -> 1949525.5 | R46: ='3 - Monthly Unit Rates'!R46*('4 - Estimated Volumes'!R46*12) -> 974762.76 | S46: ='3 - Monthly Unit Rates'!S46*('4 - Estimated Volumes'!S46*12) -> 974762.76 | T46: =R46+S46 -> 1949525.5
D47: Enterprise Data Center Load Balancer - Medium | E47: Per Device | F47: ='3 - Monthly Unit Rates'!F47*('4 - Estimated Volumes'!F47*12) -> 39676.56 | G47: ='3 - Monthly Unit Rates'!G47*('4 - Estimated Volumes'!G47*12) -> 39676.56 | H47: ='3 - Monthly Unit Rates'!H47*('4 - Estimated Volumes'!H47*12) -> 39676.56 | I47: ='3 - Monthly Unit Rates'!I47*('4 - Estimated Volumes'!I47*12) -> 39676.56 | J47: ='3 - Monthly Unit Rates'!J47*('4 - Estimated Volumes'!J47*12) -> 39676.56 | K47: =('3 - Monthly Unit Rates'!K47*'4 - Estimated Volumes'!K47)*6 -> 19838.28 | L47: =SUM(F47:K47) -> 218221.08 | N47: ='3 - Monthly Unit Rates'!N47*('4 - Estimated Volumes'!N47*12) -> 39676.56 | O47: ='3 - Monthly Unit Rates'!O47*('4 - Estimated Volumes'!O47*12) -> 39676.56 | P47: =N47+O47 -> 79353.12 | R47: ='3 - Monthly Unit Rates'!R47*('4 - Estimated Volumes'!R47*12) -> 39676.56 | S47: ='3 - Monthly Unit Rates'!S47*('4 - Estimated Volumes'!S47*12) -> 39676.56 | T47: =R47+S47 -> 79353.12
...

Sheet 3 - Monthly Unit Rates
B2: Monthly Unit Rates ($)
N3: Renewal Option 1 | R3: Renewal Option 2
B4: Resource Description | E4: Metric | F4: Contract Year 1 | G4: Contract Year 2 | H4: Contract Year 3 | I4: Contract Year 4 | J4: Contract Year 5 | K4: Contract Year 6 | N4: Year 1 | O4: Year 2 | R4: Year 1 | S4: Year 2
B5: Cross Functional Charges
A6: 2.1 | C6: Cross Functional Charges
D7: Transition Assistance Recovery (excluding Funding)
D8: Funding Recovery
A9: 2.1.1 | D9: Program Management Office | F9: 665991.49 | G9: 665991.49 | H9: 604942.27 | I9: 582742.55 | J9: 577192.62 | K9: 577192.62 | N9: 477293.9 | O9: 477293.9 | R9: 471743.97 | S9: 471743.97
A10: 2.1.2 | D10: Cross Functional (inc. Triage Desk) | F10: 254917.2 | G10: 254917.2 | H10: 231549.79 | I10: 223052.55 | J10: 220928.24 | K10: 220928.24 | N10: 182690.66 | O10: 182690.66 | R10: 180566.35 | S10: 180566.35
A11: 2.1.3 | D11: Engineering Services | F11: 314513.38 | G11: 314513.38 | H11: 285682.99 | I11: 275199.21 | J11: 272578.26 | K11: 272578.26 | N11: 225401.26 | O11: 225401.26 | R11: 222780.31 | S11: 222780.31
D12: Program and Project Management | G12: 44256.25 | H12: 44256.25 | I12: 44256.25 | J12: 44256.25 | K12: 44256.25 | N12: 0 | O12: 0 | R12: 0 | S12: 0
D13: Integration Services | G13: 26902.725 | H13: 26902.725 | I13: 26902.725 | J13: 26902.725 | K13: 26902.725 | N13: 0 | O13: 0 | R13: 0 | S13: 0
D14: WITO Operations | G14: 77724.625 | H14: 77724.625 | I14: 77724.625 | J14: 77724.625 | K14: 77724.625 | N14: 0 | O14: 0 | R14: 0 | S14: 0
D15: Design and Implementation | G15: 60130.85 | H15: 60130.85 | I15: 60130.85 | J15: 60130.85 | K15: 60130.85 | N15: 0 | O15: 0 | R15: 0 | S15: 0
D17: (*) Unit Rates applicable to Contract Year 5 and Contract Year 5.5
A18: 2.2 | B18: CPE
A19: 2.2.1 | C19: Customer Premises Equipment (CPE) Use
D20: Managed WAN CPE
D21: Router –1 WAN, Ethernet - 1x10/100Mb WAN ports | E21: Per Device | F21: 18.65 | G21: 18.65 | H21: 18.65 | I21: 18.65 | J21: 18.65 | K21: 18.65 | N21: 18.65 | O21: 18.65 | R21: 18.65 | S21: 18.65
D22: Router - 2 WAN, 1xT1 | E22: Per Device | F22: 86.84 | G22: 86.84 | H22: 86.84 | I22: 86.84 | J22: 86.84 | K22: 86.84 | N22: 86.84 | O22: 86.84 | R22: 86.84 | S22: 86.84
D23: Router - 2 WAN, 2xT1 | E23: Per Device | F23: 84.11 | G23: 84.11 | H23: 84.11 | I23: 84.11 | J23: 84.11 | K23: 84.11 | N23: 84.11 | O23: 84.11 | R23: 84.11 | S23: 84.11
D24: Router - 2 WAN, 4xT1 | E24: Per Device | F24: 114.14 | G24: 114.14 | H24: 114.14 | I24: 114.14 | J24: 114.14 | K24: 114.14 | N24: 114.14 | O24: 114.14 | R24: 114.14 | S24: 114.14
D25: Router - 3 WAN, 1xDS3 | E25: Per Device | F25: 209.59 | G25: 209.59 | H25: 209.59 | I25: 209.59 | J25: 209.59 | K25: 209.59 | N25: 209.59 | O25: 209.59 | R25: 209.59 | S25: 209.59
D26: Router - 2 WAN, 1xT1, IPSEC, LTE | E26: Per Device | F26: 126.56 | G26: 126.56 | H26: 126.56 | I26: 126.56 | J26: 126.56 | K26: 126.56 | N26: 126.56 | O26: 126.56 | R26: 126.56 | S26: 126.56
D27: Router - 2 WAN, 2xT1, IPSEC, LTE | E27: Per Device | F27: 123.83 | G27: 123.83 | H27: 123.83 | I27: 123.83 | J27: 123.83 | K27: 123.83 | N27: 123.83 | O27: 123.83 | R27: 123.83 | S27: 123.83
D28: Router - 2 WAN, 4xT1, IPSEC, LTE | E28: Per Device | F28: 153.87 | G28: 153.87 | H28: 153.87 | I28: 153.87 | J28: 153.87 | K28: 153.87 | N28: 153.87 | O28: 153.87 | R28: 153.87 | S28: 153.87
D29: Router - 3 WAN, 1xDS3, IPSEC, LTE | E29: Per Device | F29: 259.7 | G29: 259.7 | H29: 259.7 | I29: 259.7 | J29: 259.7 | K29: 259.7 | N29: 259.7 | O29: 259.7 | R29: 259.7 | S29: 259.7
D30: Router - 2 WAN, Ethernet Only | E30: Per Device | F30: 60.25 | G30: 60.25 | H30: 60.25 | I30: 60.25 | J30: 60.25 | K30: 60.25 | N30: 60.25 | O30: 60.25 | R30: 60.25 | S30: 60.25
D31: Router - 2 WAN, Ethernet Only, IPSEC, LTE | E31: Per Device | F31: 101.6 | G31: 101.6 | H31: 101.6 | I31: 101.6 | J31: 101.6 | K31: 101.6 | N31: 101.6 | O31: 101.6 | R31: 101.6 | S31: 101.6
D32: Router - Cellular Wireless Router - Point of Use | E32: Per Device | F32: 25.6 | G32: 25.6 | H32: 25.6 | I32: 25.6 | J32: 25.6 | K32: 25.6 | N32: 25.6 | O32: 25.6 | R32: 25.6 | S32: 25.6
... D37: Router - Premium Core Data Center | E37: Per Device | F37: 5458.87 | G37: 5458.87 | H37: 5458.87 | I37: 5458.87 | J37: 5458.87 | K37: 5458.87 | N37: 5458.87 | O37: 5458.87 | R37: 5458.87 | S37: 5458.87
D38: Managed LAN CPE
D39: Switch - 8 Port | E39: Per Device | F39: 29.65 | G39: 29.65 | H39: 29.65 | I39: 29.65 | J39: 29.65 | K39: 29.65 | N39: 29.65 | O39: 29.65 | R39: 29.65 | S39: 29.65
D40: Switch - 8 Port (POE) | E40: Per Device | F40: 43.69 | G40: 43.69 | H40: 43.69 | I40: 43.69 | J40: 43.69 | K40: 43.69 | N40: 43.69 | O40: 43.69 | R40: 43.69 | S40: 43.69
D41: Switch - 24 Port | E41: Per Device | F41: 92.28 | G41: 92.28 | H41: 92.28 | I41: 92.28 | J41: 92.28 | K41: 92.28 | N41: 92.28 | O41: 92.28 | R41: 92.28 | S41: 92.28
D42: Switch - 48 Port | E42: Per Device | F42: 152.22 | G42: 152.22 | H42: 152.22 | I42: 152.22 | J42: 152.22 | K42: 152.22 | N42: 152.22 | O42: 152.22 | R42: 152.22 | S42: 152.22
D43: Switch - 24 Port (POE) | E43: Per Device | F43: 111.08 | G43: 111.08 | H43: 111.08 | I43: 111.08 | J43: 111.08 | K43: 111.08 | N43: 111.08 | O43: 111.08 | R43: 111.08 | S43: 111.08
D44: Switch - 48 Port (POE) | E44: Per Device | F44: 182.74 | G44: 182.74 | H44: 182.74 | I44: 182.74 | J44: 182.74 | K44: 182.74 | N44: 182.74 | O44: 182.74 | R44: 182.74 | S44: 182.74
D45: Switch Aggregation - 48 Port | E45: Per Device | F45: 1255.3 | G45: 1255.3 | H45: 1255.3 | I45: 1255.3 | J45: 1255.3 | K45: 1255.3 | N45: 1255.3 | O45: 1255.3 | R45: 1255.3 | S45: 1255.3
D46: Switch Core - 192 Port | E46: Per Device | F46: 2620.33 | G46: 2620.33 | H46: 2620.33 | I46: 2620.33 | J46: 2620.33 | K46: 2620.33 | N46: 2620.33 | O46: 2620.33 | R46: 2620.33 | S46: 2620.33
...

Sheet 3a - Non-Recurring Unit Rates
B2: Non Recurring Rates ($)
N3: Renewal Option 1 | R3: Renewal Option 2
B4: Resource Description | C4: VA-151028-MCI: Modification 005-N January 24, 2024 | E4: Metric | F4: Contract Year 1 | G4: Contract Year 2 | H4: Contract Year 3 | I4: Contract Year 4 | J4: Contract Year 5 | K4: Contract Year 6 | N4: Year 1 | O4: Year 2 | R4: Year 1 | S4: Year 2
B5: Cross Functional Charges
C6: Cross Functional Charges
A7: 2.1 | D7: Transition Assistance Recovery (excluding Funding)
D8: Funding Recovery
D9: Program Management Office
A10: 2.1.1 | D10: Cross Functional (inc. Triage Desk)
A11: 2.1.2 | D11: Engineering Services
A12: 2.1.3 | D12: Program and Project Management
D13: Integration Services
D14: WITO Operations
D15: Design and Implementation
D17: (*) Unit Rates applicable to Contract Year 5 and Contract Year 5.5
B18: CPE
A19: 2.2 | C19: Customer Premises Equipment (CPE) Use
A20: 2.2.1 | D20: Managed WAN CPE
D21: Router –1 WAN, Ethernet - 1x10/100Mb WAN ports | E21: Per Device
D22: Router - 2 WAN, 1xT1 | E22: Per Device
D23: Router - 2 WAN, 2xT1 | E23: Per Device
D24: Router - 2 WAN, 4xT1 | E24: Per Device
D25: Router - 3 WAN, 1xDS3 | E25: Per Device
D26: Router - 2 WAN, 1xT1, IPSEC, LTE | E26: Per Device
D27: Router - 2 WAN, 2xT1, IPSEC, LTE | E27: Per Device
D28: Router - 2 WAN, 4xT1, IPSEC, LTE | E28: Per Device
D29: Router - 3 WAN, 1xDS3, IPSEC, LTE | E29: Per Device
D30: Router - 2 WAN, Ethernet Only | E30: Per Device
D31: Router - 2 WAN, Ethernet Only, IPSEC, LTE | E31: Per Device
D32: Router - Cellular Wireless Router - Point of Use | E32: Per Device
... D37: Router - Premium Core Data Center | E37: Per Device
D38: Managed LAN CPE
D39: Switch - 8 Port | E39: Per Device
D40: Switch - 8 Port (POE) | E40: Per Device
D41: Switch - 24 Port | E41: Per Device
D42: Switch - 48 Port | E42: Per Device
D43: Switch - 24 Port (POE) | E43: Per Device
D44: Switch - 48 Port (POE) | E44: Per Device
D45: Switch Aggregation - 48 Port | E45: Per Device
D46: Switch Core - 192 Port | E46: Per Device
...

Sheet 4 - Estimated Volumes
B2: Estimated Monthly Volumes $
N3: Renewal Option 1 | R3: Renewal Option 2
B4: Resource Description | C4: VA-151028-MCI: Modification 005-N January 24, 2024 | E4: Metric | F4: Contract Year 1 | G4: Contract Year 2 | H4: Contract Year 3 | I4: Contract Year 4 | J4: Contract Year 5 | K4: Contract Year 6 | N4: Year 1 | O4: Year 2 | R4: Year 1 | S4: Year 2
B5: Cross Functional Charges
A6: 2.1 | C6: Cross Functional Charges
D7: Transition Assistance Recovery (excluding Funding)
D8: Funding Recovery
A9: 2.1.1 | D9: Program Management Office | F9: 1 | G9: 1 | H9: 1 | I9: 1 | J9: 1 | K9: 1 | N9: 1 | O9: 1 | R9: 1 | S9: 1
A10: 2.1.2 | D10: Cross Functional (inc. Triage Desk) | F10: 1 | G10: 1 | H10: 1 | I10: 1 | J10: 1 | K10: 1 | N10: 1 | O10: 1 | R10: 1 | S10: 1
A11: 2.1.3 | D11: Engineering Services | F11: 1 | G11: 1 | H11: 1 | I11: 1 | J11: 1 | K11: 1 | N11: 1 | O11: 1 | R11: 1 | S11: 1
D12: Program and Project Management | G12: 1 | H12: 1 | I12: 1 | J12: 1 | K12: 1 | N12: 1 | O12: 1 | R12: 1 | S12: 1
D13: Integration Services | G13: 1 | H13: 1 | I13: 1 | J13: 1 | K13: 1 | N13: 1 | O13: 1 | R13: 1 | S13: 1
D14: WITO Operations | G14: 1 | H14: 1 | I14: 1 | J14: 1 | K14: 1 | N14: 1 | O14: 1 | R14: 1 | S14: 1
D15: Design and Implementation | G15: 1 | H15: 1 | I15: 1 | J15: 1 | K15: 1 | N15: 1 | O15: 1 | R15: 1 | S15: 1
D17: (*) Unit Rates applicable to Contract Year 5 and Contract Year 5.5
A18: 2.2 | B18: CPE
A19: 2.2.1 | C19: Customer Premises Equipment (CPE) Use
D20: Managed WAN CPE
D21: Router –1 WAN, Ethernet - 1x10/100Mb WAN ports | E21: Per Device | F21: 0 | G21: 0 | H21: 0 | I21: 0 | J21: 0 | K21: 0 | N21: 0 | O21: 0 | R21: 0 | S21: 0
D22: Router - 2 WAN, 1xT1 | E22: Per Device | F22: 0 | G22: 0 | H22: 0 | I22: 0 | J22: 0 | K22: 0 | N22: 0 | O22: 0 | R22: 0 | S22: 0
D23: Router - 2 WAN, 2xT1 | E23: Per Device | F23: 0 | G23: 0 | H23: 0 | I23: 0 | J23: 0 | K23: 0 | N23: 0 | O23: 0 | R23: 0 | S23: 0
D24: Router - 2 WAN, 4xT1 | E24: Per Device | F24: 1417 | G24: 1417 | H24: 1417 | I24: 1417 | J24: 1417 | K24: 1417 | N24: 1417 | O24: 1417 | R24: 1417 | S24: 1417
D25: Router - 3 WAN, 1xDS3 | E25: Per Device | F25: 76 | G25: 76 | H25: 76 | I25: 76 | J25: 76 | K25: 76 | N25: 76 | O25: 76 | R25: 76 | S25: 76
D26: Router - 2 WAN, 1xT1, IPSEC, LTE | E26: Per Device | F26: 0 | G26: 0 | H26: 0 | I26: 0 | J26: 0 | K26: 0 | N26: 0 | O26: 0 | R26: 0 | S26: 0
D27: Router - 2 WAN, 2xT1, IPSEC, LTE | E27: Per Device | F27: 0 | G27: 0 | H27: 0 | I27: 0 | J27: 0 | K27: 0 | N27: 0 | O27: 0 | R27: 0 | S27: 0
D28: Router - 2 WAN, 4xT1, IPSEC, LTE | E28: Per Device | F28: 0 | G28: 0 | H28: 0 | I28: 0 | J28: 0 | K28: 0 | N28: 0 | O28: 0 | R28: 0 | S28: 0
D29: Router - 3 WAN, 1xDS3, IPSEC, LTE | E29: Per Device | F29: 0 | G29: 0 | H29: 0 | I29: 0 | J29: 0 | K29: 0 | N29: 0 | O29: 0 | R29: 0 | S29: 0
D30: Router - 2 WAN, Ethernet Only | E30: Per Device | F30: 0 | G30: 0 | H30: 0 | I30: 0 | J30: 0 | K30: 0 | N30: 0 | O30: 0 | R30: 0 | S30: 0
D31: Router - 2 WAN, Ethernet Only, IPSEC, LTE | E31: Per Device | F31: 0 | G31: 0 | H31: 0 | I31: 0 | J31: 0 | K31: 0 | N31: 0 | O31: 0 | R31: 0 | S31: 0
D32: Router - Cellular Wireless Router - Point of Use | E32: Per Device | F32: 0 | G32: 0 | H32: 0 | I32: 0 | J32: 0 | K32: 0 | N32: 0 | O32: 0 | R32: 0 | S32: 0
... D37: Router - Premium Core Data Center | E37: Per Device | F37: 0 | G37: 0 | H37: 0 | I37: 0 | J37: 0 | K37: 0 | N37: 0 | O37: 0 | R37: 0 | S37: 0
D38: Managed LAN CPE
D39: Switch - 8 Port | E39: Per Device | F39: 547 | G39: 547 | H39: 547 | I39: 547 | J39: 547 | K39: 547 | N39: 547 | O39: 547 | R39: 547 | S39: 547
D40: Switch - 8 Port (POE) | E40: Per Device | F40: 0 | G40: 0 | H40: 0 | I40: 0 | J40: 0 | K40: 0 | N40: 0 | O40: 0 | R40: 0 | S40: 0
D41: Switch - 24 Port | E41: Per Device | F41: 1839 | G41: 1839 | H41: 1839 | I41: 1839 | J41: 1839 | K41: 1839 | N41: 1839 | O41: 1839 | R41: 1839 | S41: 1839
D42: Switch - 48 Port | E42: Per Device | F42: 1620 | G42: 1620 | H42: 1620 | I42: 1620 | J42: 1620 | K42: 1620 | N42: 1620 | O42: 1620 | R42: 1620 | S42: 1620
D43: Switch - 24 Port (POE) | E43: Per Device | F43: 62 | G43: 62 | H43: 62 | I43: 62 | J43: 62 | K43: 62 | N43: 62 | O43: 62 | R43: 62 | S43: 62
D44: Switch - 48 Port (POE) | E44: Per Device | F44: 117 | G44: 117 | H44: 117 | I44: 117 | J44: 117 | K44: 117 | N44: 117 | O44: 117 | R44: 117 | S44: 117
D45: Switch Aggregation - 48 Port | E45: Per Device | F45: 0 | G45: 0 | H45: 0 | I45: 0 | J45: 0 | K45: 0 | N45: 0 | O45: 0 | R45: 0 | S45: 0
D46: Switch Core - 192 Port | E46: Per Device | F46: 31 | G46: 31 | H46: 31 | I46: 31 | J46: 31 | K46: 31 | N46: 31 | O46: 31 | R46: 31 | S46: 31
...

Sheet 5 - Pass-Through
B2: Pass-Through Expenses ($)
B4: NOT USED

Sheet 6 - Milestone Charges
B2: Milestone Charges ($)
C4: VA-151028-MCI: Modification 005-O June 15, 2024
H8: Scenario 1: Milestone Charges - Paid upon Completion | P8: Scenario 2: Milestone Charges - Paid over Term
C9: Critical Milestone | D9: Reference Document | E9: Completion Criteria Ref | F9: Completion Date | H9: Contract Year 1 | I9: Contract Year 2 | J9: Contract Year 3 | K9: Contract Year 4 | L9: Contract Year 5 | M9: Contract Year 6 | N9: Total | P9: Contract Year 1 | Q9: Contract Year 2 | R9: Contract Year 3 | S9: Contract Year 4 | T9: Contract Year 5 | U9: Contract Year 6 | V9: Total
C12: Existing Asset Purchases
P14: Note : The amounts shown in this section depicting Scenario 2 are provided for illustrative purposes. The actual monthly amounts shall be determined by the method set forth in Exhibit 4.0, as amended by Modification 5A, and may result in annualized amounts that do not match the illustrative amounts herein.
C15: MILESTONES CHARGES
C16: Program and Project Management | I16: =SUM(I17:I23) -> 2124300 | J16: =SUM(J17:J23) -> 0 | K16: =SUM(K17:K23) -> 0 | L16: =SUM(L17:L23) -> 0 | N16: =SUM(H16:L16) -> 2124300 | P16: ='3 - Monthly Unit Rates'!F12*12 -> 0 | Q16: ='3 - Monthly Unit Rates'!G12*12 -> 531075 | R16: =Q16 -> 531075 | S16: =R16 -> 531075 | T16: =S16 -> 531075 | V16: =SUM(P16:T16) -> 2124300
C17: Staffing Plan | D17: Exhibit 2.4.1 | E17: Milestone 2 | F17: 43391 | H17: =P17*5 -> 0 | I17: =Q17*4 -> 303471.4 | J17: N/A | K17: N/A | L17: N/A | Q17: 75867.85 | R17: =Q17 -> 75867.85 | S17: =R17 -> 75867.85 | T17: =S17 -> 75867.85
C18: Services Detailed Implementation Plan | D18: Exhibit 2.4.1 | E18: Milestone 8 | F18: 43405 | H18: =P18*5 -> 0 | I18: =Q18*4 -> 303471.4 | J18: N/A | K18: N/A | L18: N/A | M18: N/A | Q18: 75867.85 | R18: =Q18 -> 75867.85 | S18: =R18 -> 75867.85 | T18: =S18 -> 75867.85
C19: Service Management Manual | D19: Exhibit 2.4.1 | E19: Milestone 15 | F19: 43419 | H19: =P19*5 -> 0 | I19: =Q19*4 -> 303471.44 | J19: N/A | K19: N/A | L19: N/A | M19: N/A | Q19: 75867.86 | R19: =Q19 -> 75867.86 | S19: =R19 -> 75867.86 | T19: =S19 -> 75867.86
C20: MTO 25% Complete | D20: Exhibit 2.4.1 | E20: Milestone 25 | F20: CD+8 | H20: =P20*5 -> 0 | I20: =Q20*4 -> 303471.44 | J20: N/A | K20: N/A | L20: N/A | Q20: 75867.86 | R20: =Q20 -> 75867.86 | S20: =R20 -> 75867.86 | T20: =S20 -> 75867.86
C21: MTO 50% Complete | D21: Exhibit 2.4.1 | E21: Milestone 26 | F21: CD+9 | H21: =P21*5 -> 0 | I21: =Q21*4 -> 303471.44 | J21: N/A | K21: N/A | L21: N/A | Q21: 75867.86 | R21: =Q21 -> 75867.86 | S21: =R21 -> 75867.86 | T21: =S21 -> 75867.86
C22: MTO 75% Complete | D22: Exhibit 2.4.1 | E22: Milestone 27 | F22: CD+17 | H22: =P22*5 -> 0 | I22: =Q22*4 -> 303471.44 | J22: N/A | K22: N/A | L22: N/A | Q22: 75867.86 | R22: =Q22 -> 75867.86 | S22: =R22 -> 75867.86 | T22: =S22 -> 75867.86
C23: MTO 100% Complete | D23: Exhibit 2.4.1 | E23: Milestone 29 | F23: 44012 | H23: N/A | I23: =Q23*4 -> 303471.44 | J23: N/A | K23: N/A | L23: N/A | Q23: 75867.86 | R23: =Q23 -> 75867.86 | S23: =R23 -> 75867.86 | T23: =S23 -> 75867.86
C25: Integration Services | I25: =SUM(I26:I27) -> 1291330.8 | J25: =SUM(J26:J27) -> 0 | K25: =SUM(K26:K27) -> 0 | L25: =SUM(L26:L27) -> 0 | N25: =SUM(H25:L25) -> 1291330.8 | P25: ='3 - Monthly Unit Rates'!F13*12 -> 0 | Q25: ='3 - Monthly Unit Rates'!G13*12 -> 322832.7 | R25: =Q25 -> 322832.7 | S25: =R25 -> 322832.7 | T25: =S25 -> 322832.7 | V25: =SUM(P25:T25) -> 1291330.8
C26: Assumption of management using legacy tools | D26: Exhibit 2.4.1 | E26: Milestone 18 | F26: 43449 | H26: =P26*5 -> 0 | I26: =Q26*4 -> 645665.4 | J26: N/A | K26: N/A | L26: N/A | P26: =0.5*P$25 -> 0 | Q26: =0.5*Q$25 -> 161416.35 | R26: =Q26 -> 161416.35 | S26: =R26 -> 161416.35 | T26: =S26 -> 161416.35
C27: Intgegration with MSI toolset | D27: Exhibit 2.4.1 | E27: Milestone 21 | F27: 43435 | H27: =P27*5 -> 0 | I27: =Q27*4 -> 645665.4 | J27: N/A | K27: N/A | L27: N/A | P27: =0.5*P$25 -> 0 | Q27: =0.5*Q$25 -> 161416.35 | R27: =Q27 -> 161416.35 | S27: =R27 -> 161416.35 | T27: =S27 -> 161416.35
H28: =P28*5 -> 0
C29: WITO Operations | I29: =SUM(I30:I31) -> 3730782 | J29: =SUM(J30:J31) -> 0 | K29: =SUM(K30:K31) -> 0 | L29: =SUM(L30:L31) -> 0 | N29: =SUM(H29:L29) -> 3730782 | P29: ='3 - Monthly Unit Rates'!F14*12 -> 0 | Q29: ='3 - Monthly Unit Rates'!G14*12 -> 932695.5 | R29: =Q29 -> 932695.5 | S29: =R29 -> 932695.5 | T29: =S29 -> 932695.5 | V29: =SUM(P29:T29) -> 3730782
C30: Shadowing start | D30: Exhibit 2.4.1 | E30: Milestone 14 | F30: 43361 | H30: =P30*5 -> 0 | I30: =Q30*4 -> 1865391 | J30: N/A | K30: N/A | L30: N/A | P30: =0.5*P$29 -> 0 | Q30: =0.5*Q$29 -> 466347.75 | R30: =Q30 -> 466347.75 | S30: =R30 -> 466347.75 | T30: =S30 -> 466347.75
C31: Commencement | D31: Exhibit 2.4.1 | E31: Milestone 19 | F31: 43449 | H31: =P31*5 -> 0 | I31: =Q31*4 -> 1865391 | J31: N/A | K31: N/A | L31: N/A | P31: =0.5*P$29 -> 0 | Q31: =0.5*Q$29 -> 466347.75 | R31: =Q31 -> 466347.75 | S31: =R31 -> 466347.75 | T31: =S31 -> 466347.75
C33: Design and Implementation | I33: =SUM(I34:I38) -> 2886280.8 | J33: =SUM(J34:J38) -> 0 | K33: =SUM(K34:K38) -> 0 | L33: =SUM(L34:L38) -> 0 | N33: =SUM(H33:L33) -> 2886280.8 | P33: ='3 - Monthly Unit Rates'!F15*12 -> 0 | Q33: ='3 - Monthly Unit Rates'!G15*12 -> 721570.2 | R33: =Q33 -> 721570.2 | S33: =R33 -> 721570.2 | T33: =S33 -> 721570.2 | V33: =SUM(P33:T33) -> 2886280.8
C34: MTO 25% Complete | D34: Exhibit 2.4.1 | E34: Milestone 25 | F34: CD+8 | H34: =P34*5 -> 0 | I34: =Q34*4 -> 577256.16 | J34: N/A | K34: N/A | L34: N/A | P34: =0.2*P$33 -> 0 | Q34: =0.2*Q$33 -> 144314.04 | R34: =Q34 -> 144314.04 | S34: =R34 -> 144314.04 | T34: =S34 -> 144314.04
C35: MTO 50% Complete | D35: Exhibit 2.4.1 | E35: Milestone 26 | F35: CD+9 | H35: =P35*5 -> 0 | I35: =Q35*4 -> 577256.16 | J35: N/A | K35: N/A | L35: N/A | P35: =0.2*P$33 -> 0 | Q35: =0.2*Q$33 -> 144314.04 | R35: =Q35 -> 144314.04 | S35: =R35 -> 144314.04 | T35: =S35 -> 144314.04
C36: MTO 75% Complete | D36: Exhibit 2.4.1 | E36: Milestone 27 | F36: CD+17 | H36: =P36*5 -> 0 | I36: =Q36*4 -> 577256.16 | J36: N/A | K36: N/A | L36: N/A | P36: =0.2*P$33 -> 0 | Q36: =0.2*Q$33 -> 144314.04 | R36: =Q36 -> 144314.04 | S36: =R36 -> 144314.04 | T36: =S36 -> 144314.04
C37: Refresh of CPE with Pre-Existing Issues | D37: Exhibit 2.4.1 | E37: Milestone 28 | F37: 44012 | H37: N/A | I37: =Q37*4 -> 577256.16 | J37: N/A | K37: N/A | L37: N/A | P37: =0.2*P$33 -> 0 | Q37: =0.2*Q$33 -> 144314.04 | R37: =Q37 -> 144314.04 | S37: =R37 -> 144314.04 | T37: =S37 -> 144314.04
C38: MTO 100% Complete | D38: Exhibit 2.4.1 | E38: Milestone 29 | F38: 44012 | H38: N/A | I38: =Q38*4 -> 577256.16 | J38: N/A | K38: N/A | L38: N/A | P38: =0.2*P$33 -> 0 | Q38: =0.2*Q$33 -> 144314.04 | R38: =Q38 -> 144314.04 | S38: =R38 -> 144314.04 | T38: =S38 -> 144314.04
C41: Total Milestone Charges Gross | H41: =SUM(H33,H29,H25,H16) -> 0 | I41: =SUM(I33,I29,I25,I16) -> 10032694 | J41: =SUM(J33,J29,J25,J16) -> 0 | K41: =SUM(K33,K29,K25,K16) -> 0 | L41: =SUM(L33,L29,L25,L16) -> 0 | M41: =SUM(M33,M29,M25,M16) -> 0 | N41: =SUM(H41:L41) -> 10032694 | P41: =SUM(P33,P29,P25,P16) -> 0 | Q41: =SUM(Q33,Q29,Q25,Q16) -> 2508173.4 | R41: =SUM(R33,R29,R25,R16) -> 2508173.4 | S41: =SUM(S33,S29,S25,S16) -> 2508173.4 | T41: =SUM(T33,T29,T25,T16) -> 2508173.4 | U41: =SUM(U33,U29,U25,U16) -> 0 | V41: =SUM(P41:T41) -> 10032694
C42: Transition Assistance Credit | I42: =-0.05*I40 -> 0 | J42: =-0.05*J40 -> 0 | K42: =-0.05*K40 -> 0 | L42: =-0.05*L40 -> 0 | N42: =SUM(H42:L42) -> 0 | P42: 0 | Q42: 0 | R42: 0 | S42: 0 | T42: 0 | U42: 0 | V42: =SUM(P42:U42) -> 0
C43: 5.102% Discount | H43: =-0.05102*H41 -> 0 | I43: =-0.05102*I41 -> -511868.03 | J43: =-0.05102*J41 -> 0 | K43: =-0.05102*K41 -> 0 | L43: =-0.05102*L41 -> 0 | M43: =-0.05102*M41 -> 0 | N43: =SUM(H43:L43) -> -511868.03 | P43: =-0.05102*P41 -> 0 | Q43: =-0.05102*Q41 -> -127967.01 | R43: =-0.05102*R41 -> -127967.01 | S43: =-0.05102*S41 -> -127967.01 | T43: =-0.05102*T41 -> -127967.01 | U43: =-0.05102*U41 -> 0 | V43: =SUM(P43:T43) -> -511868.03
C44: Total Milestone Charges | H44: =H41+H42+H43 -> 0 | I44: =I41+I42+I43 -> 9520825.6 | J44: =J41+J42+J43 -> 0 | K44: =K41+K42+K43 -> 0 | L44: =L41+L42+L43 -> 0 | N44: =SUM(H44:L44) -> 9520825.6 | P44: =P41+P42+P43 -> 0 | Q44: =Q41+Q42+Q43 -> 2380206.4 | R44: =R41+R42+R43 -> 2380206.4 | S44: =S41+S42+S43 -> 2380206.4 | T44: =T41+T42+T43 -> 2380206.4 | V44: =SUM(P44:T44) -> 9520825.6
C46: VITA and Supplier agree that the remaining monthly installments for Milestones 2, 8, 14, 15, 18, 19 and 21 will be paid by VITA in one lump sum payment on or before July 1, 2022, totaling $2,882,043.22. Payment terms for Milestones 25 through 29 will follow the previous payment agreement for milestones between VITA and Supplier, unless otherwise updated at a future time.

Sheet 7 - Supplier Investments
B2: Supplier Investments (Annual Amounts in $)
B3: VA-151028-MCI: Modification 005-O June 15, 2024
B4: Supplier Investments - Fill out blue highlighted areas of worksheet.
B5: Note: Investment dollars are not an addition to the Total Estimate Charges, they should already be included in the Monthly Unit Rates.
K6: Renewal Option 1 | N6: Renewal Option 2
B7: 1.02 | D7: Contract Year 1 | E7: Contract Year 2 | F7: Contract Year 3 | G7: Contract Year 4 | H7: Contract Year 5 | I7: Contract Year 5.5 | J7: 5 Year Total | K7: Year 1 | L7: Year 2 | M7: Total | N7: Year 1 | O7: Year 2 | P7: Total
C10: Supplier Investments
C11: Hardware - Infrastructure | D11: 0 | E11: 0 | F11: 0 | G11: 0 | H11: 0 | I11: 0 | J11: =SUM(D11:I11) -> 0 | K11: 0 | L11: 0 | M11: =K11+L11 -> 0 | N11: 0 | O11: 0 | P11: =O11+N11 -> 0
C12: Hardware - Non-Infrastructure | D12: 69419038 | E12: 0 | F12: 3590640 | G12: 5984400 | H12: 15559439 | I12: 0 | J12: =SUM(D12:I12) -> 94553517 | K12: 0 | L12: 4787520 | M12: =K12+L12 -> 4787520 | N12: 20346959 | O12: 0 | P12: =O12+N12 -> 20346959
C13: Sofware | D13: 0 | E13: 0 | F13: 0 | G13: 0 | H13: 0 | I13: 0 | J13: =SUM(D13:I13) -> 0 | K13: 0 | L13: 0 | M13: =K13+L13 -> 0 | N13: 0 | O13: 0 | P13: =O13+N13 -> 0
C14: Other | D14: 0 | E14: 0 | F14: 0 | G14: 0 | H14: 0 | I14: 0 | J14: =SUM(D14:I14) -> 0 | K14: 0 | L14: 0 | M14: =K14+L14 -> 0 | N14: 0 | O14: 0 | P14: =O14+N14 -> 0
C15: Total | D15: =SUM(D11:D14) -> 69419038 | E15: =SUM(E11:E14) -> 0 | F15: =SUM(F11:F14) -> 3590640 | G15: =SUM(G11:G14) -> 5984400 | H15: =SUM(H11:H14) -> 15559439 | I15: =SUM(I11:I14) -> 0 | J15: =SUM(J11:J14) -> 94553517 | K15: =SUM(K11:K14) -> 0 | ... P15: =SUM(P11:P14) -> 20346959

Sheet 8 - Termination
A2: 1.02 | B2: Termination Charges (Annual Amounts in $)
B3: VA-151028-MCI: Modification 005-O June 15, 2024
B4: Termination Charges - Fill out blue highlighted areas of worksheet
B5: Charges should reflect amount as of first day of period.
K6: Renewal Option 1 | M6: Renewal Option 2
E7: Contract Year 1 | F7: Contract Year 2 | G7: Contract Year 3 | H7: Contract Year 4 | I7: Contract Year 5 | J7: Contract Year 5.5 | K7: Year 1 | L7: Year 2 | M7: Year 1 | N7: Year 2
B8: TERMINATION FOR CONVENIENCE
D10: Cross Functional
D11: Unrecovered Implementation Charges | E11: 5016347 | F11: 4013077.5 | G11: 3009807.5 | H11: 2006539 | I11: 1003269 | J11: 0 | K11: 0 | L11: 0 | M11: 0 | N11: 0
D12: Employee Severance | E12: 6822457 | F12: 6822457 | G12: 6822457 | H12: 6822457 | I12: 6822457 | J12: =I12 -> 6822457 | K12: 6822457 | L12: 6822457 | M12: 6822457 | N12: 6822457
D13: Supplier Equipment | E13: 0 | F13: 0 | G13: 0 | H13: 0 | I13: 0 | J13: 0 | K13: 0 | L13: 0 | M13: 0 | N13: 0
D14: Third Party Contracts (Software Licenses) | E14: 0 | F14: 0 | G14: 0 | H14: 0 | I14: 0 | J14: 0 | K14: 0 | L14: 0 | M14: 0 | N14: 0
D15: Third Party Contracts (Other) | E15: 0 | F15: 0 | G15: 0 | H15: 0 | I15: 0 | J15: 0 | K15: 0 | L15: 0 | M15: 0 | N15: 0
D16: Total Cross Functional Termination for Convenience | E16: =SUM(E11:E15) -> 11838804 | F16: =SUM(F11:F15) -> 10835534 | G16: =SUM(G11:G15) -> 9832264.5 | H16: =SUM(H11:H15) -> 8828996 | I16: =SUM(I11:I15) -> 7825726 | J16: =SUM(J11:J15) -> 6822457 | K16: =SUM(K11:K15) -> 6822457 | L16: =SUM(L11:L15) -> 6822457 | ... N16: =SUM(N11:N15) -> 6822457
D19: CPE Use
D20: Unrecovered Implementation Charges | E20: 0 | F20: 0 | G20: 0 | H20: 0 | I20: 0 | J20: 0 | K20: 0 | L20: 0 | M20: 0 | N20: 0
D21: Employee Severance | E21: 0 | F21: 0 | G21: 0 | H21: 0 | I21: 0 | J21: 0 | K21: 0 | L21: 0 | M21: 0 | N21: 0
D22: Supplier Equipment | E22: 62477134 | F22: 49981707 | G22: 40717857 | H22: 32962074 | I22: 32746636 | J22: 15727003 | K22: 15727003 | L22: 15511565 | M22: 27863366 | N22: 13393087
D23: Third Party Contracts (Software Licenses) | E23: 0 | F23: 0 | G23: 0 | H23: 0 | I23: 0 | J23: 0 | K23: 0 | L23: 0 | M23: 0 | N23: 0
D24: Third Party Contracts (Other) | E24: 0 | F24: 0 | G24: 0 | H24: 0 | I24: 0 | J24: 0 | K24: 0 | L24: 0 | M24: 0 | N24: 0
D25: Total CPE Use Termination for Convenience | E25: =SUM(E20:E24) -> 62477134 | F25: =SUM(F20:F24) -> 49981707 | G25: =SUM(G20:G24) -> 40717857 | H25: =SUM(H20:H24) -> 32962074 | I25: =SUM(I20:I24) -> 32746636 | J25: =SUM(J20:J24) -> 15727003 | K25: =SUM(K20:K24) -> 15727003 | L25: =SUM(L20:L24) -> 15511565 | ... N25: =SUM(N20:N24) -> 13393087
D28: Transport
D29: Unrecovered Implementation Charges | E29: 0 | F29: 24726408 | G29: 19781126 | H29: 14835845 | I29: 2472640.8 | J29: 1236320.5 | K29: =J29 -> 1236320.5 | L29: 0 | M29: 0 | N29: 0
D30: Employee Severance | E30: 0 | F30: 0 | G30: 0 | H30: 0 | I30: 0 | J30: 0 | K30: 0 | L30: 0 | M30: 0 | N30: 0
D31: Supplier Equipment | E31: 0 | F31: 0 | G31: 0 | H31: 0 | I31: 0 | J31: 0 | K31: 0 | L31: 0 | M31: 0 | N31: 0
D32: Third Party Contracts (Software Licenses) | E32: 0 | F32: 0 | G32: 0 | H32: 0 | I32: 0 | J32: 0 | K32: 0 | L32: 0 | M32: 0 | N32: 0
D33: Third Party Contracts (Other) | E33: 0 | F33: 0 | G33: 0 | H33: 0 | I33: 0 | J33: 0 | K33: 0 | L33: 0 | M33: 0 | N33: 0
D34: Total Transport Termination for Convenience | E34: =SUM(E29:E33) -> 0 | F34: =SUM(F29:F33) -> 24726408 | G34: =SUM(G29:G33) -> 19781126 | H34: =SUM(H29:H33) -> 14835845 | I34: =SUM(I29:I33) -> 2472640.8 | J34: =SUM(J29:J33) -> 1236320.5 | K34: =SUM(K29:K33) -> 1236320.5 | L34: =SUM(L29:L33) -> 0 | ... N34: =SUM(N29:N33) -> 0
D37: Data Networking Services
D38: Unrecovered Implementation Charges | E38: 0 | F38: 0 | G38: 0 | H38: 0 | I38: 0 | J38: 0 | K38: 0 | L38: 0 | M38: 0 | N38: 0
D39: Employee Severance | E39: 1904514 | F39: 1904514 | G39: 1904514 | H39: 1904514 | I39: 1904514 | J39: 1904514 | K39: 1904514 | L39: 1904514 | M39: 1904514 | N39: 1904514
D40: Supplier Equipment | E40: 0 | F40: 0 | G40: 0 | H40: 0 | I40: 0 | J40: 0 | K40: 0 | L40: 0 | M40: 0 | N40: 0
D41: Third Party Contracts (Software Licenses) | E41: 0 | F41: 0 | G41: 0 | H41: 0 | I41: 0 | J41: 0 | K41: 0 | L41: 0 | M41: 0 | N41: 0
D42: Third Party Contracts (Other) | E42: 0 | F42: 0 | G42: 0 | H42: 0 | I42: 0 | J42: 0 | K42: 0 | L42: 0 | M42: 0 | N42: 0
D43: Total Data Networking Services Termination for Convenience | E43: =SUM(E38:E42) -> 1904514 | F43: =SUM(F38:F42) -> 1904514 | G43: =SUM(G38:G42) -> 1904514 | H43: =SUM(H38:H42) -> 1904514 | I43: =SUM(I38:I42) -> 1904514 | J43: =SUM(J38:J42) -> 1904514 | K43: =SUM(K38:K42) -> 1904514 | L43: =SUM(L38:L42) -> 1904514 | ... N43: =SUM(N38:N42) -> 1904514
D46: Voice Networking Services
D47: Unrecovered Implementation Charges | E47: 0 | F47: 0 | G47: 0 | H47: 0 | I47: 0 | J47: 0 | K47: 0 | L47: 0 | M47: 0 | N47: 0
D48: Employee Severance | E48: 0 | F48: 0 | G48: 0 | H48: 0 | I48: 0 | J48: 0 | K48: 0 | L48: 0 | M48: 0 | N48: 0
D49: Supplier Equipment | E49: 0 | F49: 0 | G49: 0 | H49: 0 | I49: 0 | J49: 0 | K49: 0 | L49: 0 | M49: 0 | N49: 0
D50: Third Party Contracts (Software Licenses) | E50: 0 | F50: 0 | G50: 0 | H50: 0 | I50: 0 | J50: 0 | K50: 0 | L50: 0 | M50: 0 | N50: 0
...

Sheet 9 - Inflation Sensivity
B2: Inflation Sensitivity (%)
B3: NOT USED
C4: VA-151028-MCI: Modification 005-O June 15, 2024 | F4: 1.02

Sheet 10 - Rate Card
B2: Rate Card $
B4: VA-151028-MCI: Modification 005-O June 15, 2024
B5: Fill out blue highlighted cells in the first table with the Resource Types available for FTE Services and the applicable hourly rates, inclusive of travel.
B6: Fill out blue highlighted cells in the second table to describe the Resouce Types listed in the first table.
K8: Renewal Option 1 | M8: Renewal Option 2
